BEGIN:VCALENDAR
VERSION:2.0
PRODID:-//NADI Kg Kala Star - ECPv6.15.13.1//NONSGML v1.0//EN
CALSCALE:GREGORIAN
METHOD:PUBLISH
X-WR-CALNAME:NADI Kg Kala Star
X-ORIGINAL-URL:https://kgkalastar.nadi.my
X-WR-CALDESC:Events for NADI Kg Kala Star
REFRESH-INTERVAL;VALUE=DURATION:PT1H
X-Robots-Tag:noindex
X-PUBLISHED-TTL:PT1H
BEGIN:VTIMEZONE
TZID:Asia/Kuala_Lumpur
BEGIN:STANDARD
TZOFFSETFROM:+0800
TZOFFSETTO:+0800
TZNAME:+08
DTSTART:20250101T000000
END:STANDARD
END:VTIMEZONE
BEGIN:VTIMEZONE
TZID:UTC
BEGIN:STANDARD
TZOFFSETFROM:+0000
TZOFFSETTO:+0000
TZNAME:UTC
DTSTART:20250101T000000
END:STANDARD
END:VTIMEZONE
BEGIN:VEVENT
DTSTART;TZID=Asia/Kuala_Lumpur:20260301T150000
DTEND;TZID=Asia/Kuala_Lumpur:20260301T160000
DTSTAMP:20260419T224534
CREATED:20260303T014049Z
LAST-MODIFIED:20260303T014049Z
UID:13563-1772377200-1772380800@kgkalastar.nadi.my
SUMMARY:NADI x Pembelajaran Sepanjang Hayat - DILEA Tuisyen Rakyat : Guidance Tuition Matematik Tingkatan 4
DESCRIPTION:
URL:https://kgkalastar.nadi.my/event/nadi-x-pembelajaran-sepanjang-hayat-dilea-tuisyen-rakyat-guidance-tuition-matematik-tingkatan-4-4/
END:VEVENT
BEGIN:VEVENT
DTSTART;TZID=Asia/Kuala_Lumpur:20260302T150000
DTEND;TZID=Asia/Kuala_Lumpur:20260302T160000
DTSTAMP:20260419T224534
CREATED:20260303T014204Z
LAST-MODIFIED:20260303T014204Z
UID:13565-1772463600-1772467200@kgkalastar.nadi.my
SUMMARY:NADI x Pembelajaran Sepanjang Hayat - DILEA Tuisyen Rakyat : Guidance Tuition Bahasa Melayu Tingkatan 4
DESCRIPTION:
URL:https://kgkalastar.nadi.my/event/nadi-x-pembelajaran-sepanjang-hayat-dilea-tuisyen-rakyat-guidance-tuition-bahasa-melayu-tingkatan-4-4/
END:VEVENT
BEGIN:VEVENT
DTSTART;TZID=Asia/Kuala_Lumpur:20260302T150000
DTEND;TZID=Asia/Kuala_Lumpur:20260302T160000
DTSTAMP:20260419T224534
CREATED:20260303T014927Z
LAST-MODIFIED:20260303T014927Z
UID:13580-1772463600-1772467200@kgkalastar.nadi.my
SUMMARY:NADI x Pembelajaran Sepanjang Hayat - DILEA Tuisyen Rakyat : Open Tuition Matematik (Ting 1-5)
DESCRIPTION:
URL:https://kgkalastar.nadi.my/event/nadi-x-pembelajaran-sepanjang-hayat-dilea-tuisyen-rakyat-open-tuition-matematik-ting-1-5-7/
END:VEVENT
BEGIN:VEVENT
DTSTART;TZID=Asia/Kuala_Lumpur:20260303T150000
DTEND;TZID=Asia/Kuala_Lumpur:20260303T160000
DTSTAMP:20260419T224534
CREATED:20260303T014242Z
LAST-MODIFIED:20260303T014242Z
UID:13567-1772550000-1772553600@kgkalastar.nadi.my
SUMMARY:NADI x Pembelajaran Sepanjang Hayat - DILEA Tuisyen Rakyat : Guidance Tuition Sejarah Tingkatan 4
DESCRIPTION:
URL:https://kgkalastar.nadi.my/event/nadi-x-pembelajaran-sepanjang-hayat-dilea-tuisyen-rakyat-guidance-tuition-sejarah-tingkatan-4-3/
END:VEVENT
BEGIN:VEVENT
DTSTART;TZID=Asia/Kuala_Lumpur:20260303T150000
DTEND;TZID=Asia/Kuala_Lumpur:20260303T160000
DTSTAMP:20260419T224534
CREATED:20260303T015000Z
LAST-MODIFIED:20260303T015000Z
UID:13582-1772550000-1772553600@kgkalastar.nadi.my
SUMMARY:NADI x Pembelajaran Sepanjang Hayat - DILEA Tuisyen Rakyat : Open Tuition Bahasa Inggeris (Ting 1-5)
DESCRIPTION:
URL:https://kgkalastar.nadi.my/event/nadi-x-pembelajaran-sepanjang-hayat-dilea-tuisyen-rakyat-open-tuition-bahasa-inggeris-ting-1-5-7/
END:VEVENT
BEGIN:VEVENT
DTSTART;TZID=UTC:20260305T140000
DTEND;TZID=UTC:20260305T153000
DTSTAMP:20260419T224534
CREATED:20260227T005627Z
LAST-MODIFIED:20260227T005627Z
UID:13556-1772719200-1772724600@kgkalastar.nadi.my
SUMMARY:NADI x Pembelajaran Sepanjang Hayat - NADI Cybersecurity : Bahaya Serangan Malware
DESCRIPTION:
URL:https://kgkalastar.nadi.my/event/nadi-x-pembelajaran-sepanjang-hayat-nadi-cybersecurity-bahaya-serangan-malware/
END:VEVENT
BEGIN:VEVENT
DTSTART;TZID=Asia/Kuala_Lumpur:20260305T150000
DTEND;TZID=Asia/Kuala_Lumpur:20260305T160000
DTSTAMP:20260419T224534
CREATED:20260303T014326Z
LAST-MODIFIED:20260303T014326Z
UID:13569-1772722800-1772726400@kgkalastar.nadi.my
SUMMARY:NADI x Pembelajaran Sepanjang Hayat - DILEA Tuisyen Rakyat : Guidance Tuition Bahasa Inggeris Tingkatan 4
DESCRIPTION:
URL:https://kgkalastar.nadi.my/event/nadi-x-pembelajaran-sepanjang-hayat-dilea-tuisyen-rakyat-guidance-tuition-bahasa-inggeris-tingkatan-4-4/
END:VEVENT
BEGIN:VEVENT
DTSTART;TZID=Asia/Kuala_Lumpur:20260305T150000
DTEND;TZID=Asia/Kuala_Lumpur:20260305T160000
DTSTAMP:20260419T224534
CREATED:20260303T015032Z
LAST-MODIFIED:20260303T015032Z
UID:13584-1772722800-1772726400@kgkalastar.nadi.my
SUMMARY:NADI x Pembelajaran Sepanjang Hayat - DILEA Tuisyen Rakyat : Open Tuition Bahasa Melayu (Ting 1-5)
DESCRIPTION:
URL:https://kgkalastar.nadi.my/event/nadi-x-pembelajaran-sepanjang-hayat-dilea-tuisyen-rakyat-open-tuition-bahasa-melayu-ting-1-5-6/
END:VEVENT
BEGIN:VEVENT
DTSTART;TZID=Asia/Kuala_Lumpur:20260307T140000
DTEND;TZID=Asia/Kuala_Lumpur:20260307T150000
DTSTAMP:20260419T224534
CREATED:20260303T044531Z
LAST-MODIFIED:20260303T044531Z
UID:13627-1772892000-1772895600@kgkalastar.nadi.my
SUMMARY:NADI x Pembelajaran Sepanjang Hayat - Tiny Techies : Kelas Ulangkaji Siri 3 Microbit & Robotik (Sekolah Rendah)
DESCRIPTION:
URL:https://kgkalastar.nadi.my/event/nadi-x-pembelajaran-sepanjang-hayat-tiny-techies-kelas-ulangkaji-siri-3-microbit-robotik-sekolah-rendah/
END:VEVENT
BEGIN:VEVENT
DTSTART;TZID=Asia/Kuala_Lumpur:20260307T153000
DTEND;TZID=Asia/Kuala_Lumpur:20260307T163000
DTSTAMP:20260419T224534
CREATED:20260303T044703Z
LAST-MODIFIED:20260303T044703Z
UID:13629-1772897400-1772901000@kgkalastar.nadi.my
SUMMARY:NADI x Pembelajaran Sepanjang Hayat - Tiny Techies : Kelas Ulangkaji Siri 3 Python\, HTML & SQL (Sekolah Menengah)
DESCRIPTION:
URL:https://kgkalastar.nadi.my/event/nadi-x-pembelajaran-sepanjang-hayat-tiny-techies-kelas-ulangkaji-siri-3-python-html-sql-sekolah-menengah/
END:VEVENT
BEGIN:VEVENT
DTSTART;TZID=Asia/Kuala_Lumpur:20260309T090000
DTEND;TZID=Asia/Kuala_Lumpur:20260315T170000
DTSTAMP:20260419T224534
CREATED:20260303T015349Z
LAST-MODIFIED:20260303T015349Z
UID:13590-1773046800-1773594000@kgkalastar.nadi.my
SUMMARY:NADI x Pembelajaran Sepanjang Hayat - DILEA Tuisyen Rakyat : English Proficiency Tingkatan 4 & 5 Lesson 26
DESCRIPTION:
URL:https://kgkalastar.nadi.my/event/nadi-x-pembelajaran-sepanjang-hayat-dilea-tuisyen-rakyat-english-proficiency-tingkatan-4-5-lesson-26/
END:VEVENT
BEGIN:VEVENT
DTSTART;TZID=Asia/Kuala_Lumpur:20260309T150000
DTEND;TZID=Asia/Kuala_Lumpur:20260309T160000
DTSTAMP:20260419T224534
CREATED:20260303T015107Z
LAST-MODIFIED:20260303T015107Z
UID:13586-1773068400-1773072000@kgkalastar.nadi.my
SUMMARY:NADI x Pembelajaran Sepanjang Hayat - DILEA Tuisyen Rakyat : Open Tuition Sejarah (Ting 1-5)
DESCRIPTION:
URL:https://kgkalastar.nadi.my/event/nadi-x-pembelajaran-sepanjang-hayat-dilea-tuisyen-rakyat-open-tuition-sejarah-ting-1-5-7/
END:VEVENT
BEGIN:VEVENT
DTSTART;TZID=Asia/Kuala_Lumpur:20260312T140000
DTEND;TZID=Asia/Kuala_Lumpur:20260312T153000
DTSTAMP:20260419T224534
CREATED:20260305T061419Z
LAST-MODIFIED:20260305T061419Z
UID:13631-1773324000-1773329400@kgkalastar.nadi.my
SUMMARY:NADI x Pembelajaran Sepanjang Hayat - NADI Cybersecurity : Cara Gunakan WIFI Awam Dengan Selamat
DESCRIPTION:
URL:https://kgkalastar.nadi.my/event/nadi-x-pembelajaran-sepanjang-hayat-nadi-cybersecurity-cara-gunakan-wifi-awam-dengan-selamat/
END:VEVENT
BEGIN:VEVENT
DTSTART;TZID=Asia/Kuala_Lumpur:20260312T150000
DTEND;TZID=Asia/Kuala_Lumpur:20260312T160000
DTSTAMP:20260419T224534
CREATED:20260303T015143Z
LAST-MODIFIED:20260303T015143Z
UID:13588-1773327600-1773331200@kgkalastar.nadi.my
SUMMARY:NADI x Pembelajaran Sepanjang Hayat - DILEA Tuisyen Rakyat : Open Tuition Sains (Ting 1-5)
DESCRIPTION:
URL:https://kgkalastar.nadi.my/event/nadi-x-pembelajaran-sepanjang-hayat-dilea-tuisyen-rakyat-open-tuition-sains-ting-1-5-7/
END:VEVENT
BEGIN:VEVENT
DTSTART;TZID=Asia/Kuala_Lumpur:20260313T090000
DTEND;TZID=Asia/Kuala_Lumpur:20260313T100000
DTSTAMP:20260419T224534
CREATED:20260303T014447Z
LAST-MODIFIED:20260303T014447Z
UID:13571-1773392400-1773396000@kgkalastar.nadi.my
SUMMARY:NADI x Pembelajaran Sepanjang Hayat - DILEA Tuisyen Rakyat : Guidance Tuition Bahasa Melayu Tingkatan 5
DESCRIPTION:
URL:https://kgkalastar.nadi.my/event/nadi-x-pembelajaran-sepanjang-hayat-dilea-tuisyen-rakyat-guidance-tuition-bahasa-melayu-tingkatan-5-4/
END:VEVENT
BEGIN:VEVENT
DTSTART;TZID=Asia/Kuala_Lumpur:20260313T100000
DTEND;TZID=Asia/Kuala_Lumpur:20260313T110000
DTSTAMP:20260419T224534
CREATED:20260303T014545Z
LAST-MODIFIED:20260303T014545Z
UID:13573-1773396000-1773399600@kgkalastar.nadi.my
SUMMARY:NADI x Pembelajaran Sepanjang Hayat - DILEA Tuisyen Rakyat : Guidance Tuition Bahasa Inggeris Tingkatan 5
DESCRIPTION:
URL:https://kgkalastar.nadi.my/event/nadi-x-pembelajaran-sepanjang-hayat-dilea-tuisyen-rakyat-guidance-tuition-bahasa-inggeris-tingkatan-5-4/
END:VEVENT
BEGIN:VEVENT
DTSTART;TZID=Asia/Kuala_Lumpur:20260314T080000
DTEND;TZID=Asia/Kuala_Lumpur:20260314T150000
DTSTAMP:20260419T224534
CREATED:20260313T080105Z
LAST-MODIFIED:20260313T080105Z
UID:13708-1773475200-1773500400@kgkalastar.nadi.my
SUMMARY:Bazar Raya NADI 2026
DESCRIPTION:
URL:https://kgkalastar.nadi.my/event/bazar-raya-nadi-2026/
END:VEVENT
BEGIN:VEVENT
DTSTART;TZID=Asia/Kuala_Lumpur:20260314T090000
DTEND;TZID=Asia/Kuala_Lumpur:20260314T100000
DTSTAMP:20260419T224534
CREATED:20260303T014626Z
LAST-MODIFIED:20260303T014626Z
UID:13575-1773478800-1773482400@kgkalastar.nadi.my
SUMMARY:NADI x Pembelajaran Sepanjang Hayat - DILEA Tuisyen Rakyat : Guidance Tuition Sejarah Tingkatan 5
DESCRIPTION:
URL:https://kgkalastar.nadi.my/event/nadi-x-pembelajaran-sepanjang-hayat-dilea-tuisyen-rakyat-guidance-tuition-sejarah-tingkatan-5-4/
END:VEVENT
BEGIN:VEVENT
DTSTART;TZID=Asia/Kuala_Lumpur:20260314T100000
DTEND;TZID=Asia/Kuala_Lumpur:20260314T110000
DTSTAMP:20260419T224534
CREATED:20260303T014727Z
LAST-MODIFIED:20260303T014727Z
UID:13578-1773482400-1773486000@kgkalastar.nadi.my
SUMMARY:NADI x Pembelajaran Sepanjang Hayat - DILEA Tuisyen Rakyat : Guidance Tuition Matematik Tingkatan 5
DESCRIPTION:
URL:https://kgkalastar.nadi.my/event/nadi-x-pembelajaran-sepanjang-hayat-dilea-tuisyen-rakyat-guidance-tuition-matematik-tingkatan-5-4/
END:VEVENT
BEGIN:VEVENT
DTSTART;TZID=Asia/Kuala_Lumpur:20260324T090000
DTEND;TZID=Asia/Kuala_Lumpur:20260324T180000
DTSTAMP:20260419T224534
CREATED:20260327T015007Z
LAST-MODIFIED:20260330T041752Z
UID:13727-1774342800-1774375200@kgkalastar.nadi.my
SUMMARY:NADI x Pembelajaran Sepanjang Hayat – Podcast NADI E-Sukan Episod 13 : Suara Di Pentas\, Realiti Sebalik Tabir
DESCRIPTION:
URL:https://kgkalastar.nadi.my/event/nadi-x-pembelajaran-sepanjang-hayat-podcast-nadi-e-sukan-episod-13-suara-di-pentas-realiti-sebalik-tabir/
END:VEVENT
BEGIN:VEVENT
DTSTART;TZID=Asia/Kuala_Lumpur:20260325T090000
DTEND;TZID=Asia/Kuala_Lumpur:20260325T180000
DTSTAMP:20260419T224534
CREATED:20260303T015445Z
LAST-MODIFIED:20260330T041813Z
UID:13592-1774429200-1774461600@kgkalastar.nadi.my
SUMMARY:NADI x Pembelajaran Sepanjang Hayat - DILEA Tuisyen Rakyat : English Proficiency Tingkatan 4 & 5 Lesson 27
DESCRIPTION:
URL:https://kgkalastar.nadi.my/event/nadi-x-pembelajaran-sepanjang-hayat-dilea-tuisyen-rakyat-english-proficiency-tingkatan-4-5-lesson-27/
END:VEVENT
BEGIN:VEVENT
DTSTART;TZID=Asia/Kuala_Lumpur:20260327T080000
DTEND;TZID=Asia/Kuala_Lumpur:20260329T180000
DTSTAMP:20260419T224534
CREATED:20260327T014221Z
LAST-MODIFIED:20260327T014221Z
UID:13722-1774598400-1774807200@kgkalastar.nadi.my
SUMMARY:NADI x Pembelajaran Sepanjang Hayat - NADI E-Sukan Mac 2026 Modul 9 : Asas Media Sosial Untuk Pemain MLBB
DESCRIPTION:
URL:https://kgkalastar.nadi.my/event/nadi-x-pembelajaran-sepanjang-hayat-nadi-e-sukan-mac-2026-modul-9-asas-media-sosial-untuk-pemain-mlbb/
END:VEVENT
BEGIN:VEVENT
DTSTART;TZID=Asia/Kuala_Lumpur:20260327T103000
DTEND;TZID=Asia/Kuala_Lumpur:20260327T113000
DTSTAMP:20260419T224534
CREATED:20260327T015417Z
LAST-MODIFIED:20260327T015417Z
UID:13729-1774607400-1774611000@kgkalastar.nadi.my
SUMMARY:NADI x Kesejahteraan Kendiri – Webinar Studio Sihat – Perut Buncit Tanda Bahagia? Jangan Tertipu\, Awas Risiko Senyap Kanser Usus | W135
DESCRIPTION:
URL:https://kgkalastar.nadi.my/event/nadi-x-kesejahteraan-kendiri-webinar-studio-sihat-perut-buncit-tanda-bahagia-jangan-tertipu-awas-risiko-senyap-kanser-usus-w135/
END:VEVENT
BEGIN:VEVENT
DTSTART;TZID=Asia/Kuala_Lumpur:20260328T090000
DTEND;TZID=Asia/Kuala_Lumpur:20260328T130000
DTSTAMP:20260419T224534
CREATED:20260327T014540Z
LAST-MODIFIED:20260327T014540Z
UID:13725-1774688400-1774702800@kgkalastar.nadi.my
SUMMARY:NADI x Pembelajaran Sepanjang Hayat – NADI E-Sukan – Webinar Mac 2026 : Scriptwriting 2
DESCRIPTION:
URL:https://kgkalastar.nadi.my/event/nadi-x-pembelajaran-sepanjang-hayat-nadi-e-sukan-webinar-mac-2026-scriptwriting-2/
END:VEVENT
BEGIN:VEVENT
DTSTART;TZID=Asia/Kuala_Lumpur:20260330T100000
DTEND;TZID=Asia/Kuala_Lumpur:20260330T110000
DTSTAMP:20260419T224534
CREATED:20260327T013726Z
LAST-MODIFIED:20260327T013726Z
UID:13714-1774864800-1774868400@kgkalastar.nadi.my
SUMMARY:NADI x Pembelajaran Sepanjang Hayat - Webinar Pemasaran Digital eKelas Usahawan : Strategi Pemasaran Digital
DESCRIPTION:
URL:https://kgkalastar.nadi.my/event/nadi-x-pembelajaran-sepanjang-hayat-webinar-pemasaran-digital-ekelas-usahawan-strategi-pemasaran-digital-2/
END:VEVENT
BEGIN:VEVENT
DTSTART;TZID=Asia/Kuala_Lumpur:20260330T140000
DTEND;TZID=Asia/Kuala_Lumpur:20260330T150000
DTSTAMP:20260419T224534
CREATED:20260327T013751Z
LAST-MODIFIED:20260327T013751Z
UID:13716-1774879200-1774882800@kgkalastar.nadi.my
SUMMARY:NADI x Pembelajaran Sepanjang Hayat - Webinar Pemasaran Digital eKelas Usahawan : Asas Komunikasi Visual
DESCRIPTION:
URL:https://kgkalastar.nadi.my/event/nadi-x-pembelajaran-sepanjang-hayat-webinar-pemasaran-digital-ekelas-usahawan-asas-komunikasi-visual-2/
END:VEVENT
BEGIN:VEVENT
DTSTART;TZID=Asia/Kuala_Lumpur:20260331T100000
DTEND;TZID=Asia/Kuala_Lumpur:20260331T110000
DTSTAMP:20260419T224534
CREATED:20260327T013834Z
LAST-MODIFIED:20260327T013834Z
UID:13718-1774951200-1774954800@kgkalastar.nadi.my
SUMMARY:NADI x Pembelajaran Sepanjang Hayat - Webinar Pemasaran Digital eKelas Usahawan : AI untuk Mencipta Kandungan
DESCRIPTION:
URL:https://kgkalastar.nadi.my/event/nadi-x-pembelajaran-sepanjang-hayat-webinar-pemasaran-digital-ekelas-usahawan-ai-untuk-mencipta-kandungan-2/
END:VEVENT
BEGIN:VEVENT
DTSTART;TZID=Asia/Kuala_Lumpur:20260331T140000
DTEND;TZID=Asia/Kuala_Lumpur:20260331T150000
DTSTAMP:20260419T224534
CREATED:20260327T013931Z
LAST-MODIFIED:20260327T014257Z
UID:13720-1774965600-1774969200@kgkalastar.nadi.my
SUMMARY:NADI x Pembelajaran Sepanjang Hayat - Webinar Pemasaran Digital eKelas Usahawan : Mengurus & Mengukur Keberkesanan Pemasaran Digital
DESCRIPTION:
URL:https://kgkalastar.nadi.my/event/nadi-x-pembelajaran-sepanjang-hayat-webinar-pemasaran-digital-ekelas-usahawan-menguru-mengukur-keberkesanan-pemasaran-digital/
END:VEVENT
END:VCALENDAR