BEGIN:VCALENDAR
VERSION:2.0
PRODID:-//NADI Kg Kala Star - ECPv6.15.13.1//NONSGML v1.0//EN
CALSCALE:GREGORIAN
METHOD:PUBLISH
X-WR-CALNAME:NADI Kg Kala Star
X-ORIGINAL-URL:https://kgkalastar.nadi.my
X-WR-CALDESC:Events for NADI Kg Kala Star
REFRESH-INTERVAL;VALUE=DURATION:PT1H
X-Robots-Tag:noindex
X-PUBLISHED-TTL:PT1H
BEGIN:VTIMEZONE
TZID:UTC
BEGIN:STANDARD
TZOFFSETFROM:+0000
TZOFFSETTO:+0000
TZNAME:UTC
DTSTART:20250101T000000
END:STANDARD
END:VTIMEZONE
BEGIN:VEVENT
DTSTART;TZID=UTC:20260104T153000
DTEND;TZID=UTC:20260104T163000
DTSTAMP:20260421T160634
CREATED:20260101T233145Z
LAST-MODIFIED:20260101T233145Z
UID:13084-1767540600-1767544200@kgkalastar.nadi.my
SUMMARY:NADI x Pembelajaran Sepanjang Hayat - DILEA Tuisyen Rakyat : Guidance Tuition Matematik Tingkatan 4
DESCRIPTION:
URL:https://kgkalastar.nadi.my/event/nadi-x-pembelajaran-sepanjang-hayat-dilea-tuisyen-rakyat-guidance-tuition-matematik-tingkatan-4-2/
END:VEVENT
BEGIN:VEVENT
DTSTART;TZID=UTC:20260105T153000
DTEND;TZID=UTC:20260105T163000
DTSTAMP:20260421T160634
CREATED:20260101T232105Z
LAST-MODIFIED:20260101T232105Z
UID:13063-1767627000-1767630600@kgkalastar.nadi.my
SUMMARY:NADI x Pembelajaran Sepanjang Hayat - DILEA Tuisyen Rakyat : Open Tuition Matematik (Ting 1-5)
DESCRIPTION:
URL:https://kgkalastar.nadi.my/event/nadi-x-pembelajaran-sepanjang-hayat-dilea-tuisyen-rakyat-open-tuition-matematik-ting-1-5-3/
END:VEVENT
BEGIN:VEVENT
DTSTART;TZID=UTC:20260105T153000
DTEND;TZID=UTC:20260105T163000
DTSTAMP:20260421T160634
CREATED:20260101T233218Z
LAST-MODIFIED:20260101T233218Z
UID:13086-1767627000-1767630600@kgkalastar.nadi.my
SUMMARY:NADI x Pembelajaran Sepanjang Hayat - DILEA Tuisyen Rakyat : Guidance Tuition Bahasa Melayu Tingkatan 4
DESCRIPTION:
URL:https://kgkalastar.nadi.my/event/nadi-x-pembelajaran-sepanjang-hayat-dilea-tuisyen-rakyat-guidance-tuition-bahasa-melayu-tingkatan-4-2/
END:VEVENT
BEGIN:VEVENT
DTSTART;TZID=UTC:20260106T153000
DTEND;TZID=UTC:20260106T163000
DTSTAMP:20260421T160634
CREATED:20260101T232146Z
LAST-MODIFIED:20260101T232146Z
UID:13065-1767713400-1767717000@kgkalastar.nadi.my
SUMMARY:NADI x Pembelajaran Sepanjang Hayat - DILEA Tuisyen Rakyat : Open Tuition Bahasa Inggeris (Ting 1-5)
DESCRIPTION:
URL:https://kgkalastar.nadi.my/event/nadi-x-pembelajaran-sepanjang-hayat-dilea-tuisyen-rakyat-open-tuition-bahasa-inggeris-ting-1-5-3/
END:VEVENT
BEGIN:VEVENT
DTSTART;TZID=UTC:20260106T153000
DTEND;TZID=UTC:20260106T163000
DTSTAMP:20260421T160634
CREATED:20260101T233257Z
LAST-MODIFIED:20260101T233257Z
UID:13088-1767713400-1767717000@kgkalastar.nadi.my
SUMMARY:NADI x Pembelajaran Sepanjang Hayat - DILEA Tuisyen Rakyat : Guidance Tuition Sejarah Tingkatan 4
DESCRIPTION:
URL:https://kgkalastar.nadi.my/event/nadi-x-pembelajaran-sepanjang-hayat-dilea-tuisyen-rakyat-guidance-tuition-sejarah-tingkatan-4/
END:VEVENT
BEGIN:VEVENT
DTSTART;TZID=UTC:20260108T153000
DTEND;TZID=UTC:20260108T163000
DTSTAMP:20260421T160634
CREATED:20260101T232516Z
LAST-MODIFIED:20260101T232516Z
UID:13067-1767886200-1767889800@kgkalastar.nadi.my
SUMMARY:NADI x Pembelajaran Sepanjang Hayat - DILEA Tuisyen Rakyat : Open Tuition Bahasa Melayu (Ting 1-5)
DESCRIPTION:
URL:https://kgkalastar.nadi.my/event/nadi-x-pembelajaran-sepanjang-hayat-dilea-tuisyen-rakyat-open-tuition-bahasa-melayu-ting-1-5-3/
END:VEVENT
BEGIN:VEVENT
DTSTART;TZID=UTC:20260108T153000
DTEND;TZID=UTC:20260108T163000
DTSTAMP:20260421T160634
CREATED:20260101T233328Z
LAST-MODIFIED:20260101T233328Z
UID:13090-1767886200-1767889800@kgkalastar.nadi.my
SUMMARY:NADI x Pembelajaran Sepanjang Hayat - DILEA Tuisyen Rakyat : Guidance Tuition Bahasa Inggeris Tingkatan 4
DESCRIPTION:
URL:https://kgkalastar.nadi.my/event/nadi-x-pembelajaran-sepanjang-hayat-dilea-tuisyen-rakyat-guidance-tuition-bahasa-inggeris-tingkatan-4-2/
END:VEVENT
BEGIN:VEVENT
DTSTART;TZID=UTC:20260109T143000
DTEND;TZID=UTC:20260109T153000
DTSTAMP:20260421T160634
CREATED:20260101T233453Z
LAST-MODIFIED:20260101T233453Z
UID:13092-1767969000-1767972600@kgkalastar.nadi.my
SUMMARY:NADI x Pembelajaran Sepanjang Hayat - DILEA Tuisyen Rakyat : Guidance Tuition Bahasa Melayu Tingkatan 5
DESCRIPTION:
URL:https://kgkalastar.nadi.my/event/nadi-x-pembelajaran-sepanjang-hayat-dilea-tuisyen-rakyat-guidance-tuition-bahasa-melayu-tingkatan-5-2/
END:VEVENT
BEGIN:VEVENT
DTSTART;TZID=UTC:20260109T160000
DTEND;TZID=UTC:20260109T170000
DTSTAMP:20260421T160634
CREATED:20260101T233528Z
LAST-MODIFIED:20260101T233528Z
UID:13094-1767974400-1767978000@kgkalastar.nadi.my
SUMMARY:NADI x Pembelajaran Sepanjang Hayat - DILEA Tuisyen Rakyat : Guidance Tuition Bahasa Inggeris Tingkatan 5
DESCRIPTION:
URL:https://kgkalastar.nadi.my/event/nadi-x-pembelajaran-sepanjang-hayat-dilea-tuisyen-rakyat-guidance-tuition-bahasa-inggeris-tingkatan-5-2/
END:VEVENT
BEGIN:VEVENT
DTSTART;TZID=UTC:20260110T140000
DTEND;TZID=UTC:20260110T150000
DTSTAMP:20260421T160634
CREATED:20260101T233559Z
LAST-MODIFIED:20260101T233619Z
UID:13096-1768053600-1768057200@kgkalastar.nadi.my
SUMMARY:NADI x Pembelajaran Sepanjang Hayat - DILEA Tuisyen Rakyat : Guidance Tuition Sejarah Tingkatan 5
DESCRIPTION:
URL:https://kgkalastar.nadi.my/event/nadi-x-pembelajaran-sepanjang-hayat-dilea-tuisyen-rakyat-guidance-tuition-sejarah-tingkatan-5-2/
END:VEVENT
BEGIN:VEVENT
DTSTART;TZID=UTC:20260110T153000
DTEND;TZID=UTC:20260110T163000
DTSTAMP:20260421T160634
CREATED:20260101T233648Z
LAST-MODIFIED:20260101T233648Z
UID:13098-1768059000-1768062600@kgkalastar.nadi.my
SUMMARY:NADI x Pembelajaran Sepanjang Hayat - DILEA Tuisyen Rakyat : Guidance Tuition Matematik Tingkatan 5
DESCRIPTION:
URL:https://kgkalastar.nadi.my/event/nadi-x-pembelajaran-sepanjang-hayat-dilea-tuisyen-rakyat-guidance-tuition-matematik-tingkatan-5-2/
END:VEVENT
BEGIN:VEVENT
DTSTART;TZID=UTC:20260111T090000
DTEND;TZID=UTC:20260111T180000
DTSTAMP:20260421T160634
CREATED:20260101T233926Z
LAST-MODIFIED:20260101T233926Z
UID:13100-1768122000-1768154400@kgkalastar.nadi.my
SUMMARY:NADI x Pembelajaran Sepanjang Hayat - DILEA Tuisyen Rakyat : English Proficiency Tingkatan 4 & 5 Lesson 22
DESCRIPTION:
URL:https://kgkalastar.nadi.my/event/nadi-x-pembelajaran-sepanjang-hayat-dilea-tuisyen-rakyat-english-proficiency-tingkatan-4-5-lesson-22/
END:VEVENT
BEGIN:VEVENT
DTSTART;TZID=UTC:20260112T153000
DTEND;TZID=UTC:20260112T163000
DTSTAMP:20260421T160634
CREATED:20260101T232551Z
LAST-MODIFIED:20260101T232551Z
UID:13069-1768231800-1768235400@kgkalastar.nadi.my
SUMMARY:NADI x Pembelajaran Sepanjang Hayat - DILEA Tuisyen Rakyat : Open Tuition Sejarah (Ting 1-5)
DESCRIPTION:
URL:https://kgkalastar.nadi.my/event/nadi-x-pembelajaran-sepanjang-hayat-dilea-tuisyen-rakyat-open-tuition-sejarah-ting-1-5-3/
END:VEVENT
BEGIN:VEVENT
DTSTART;TZID=UTC:20260115T150000
DTEND;TZID=UTC:20260115T163000
DTSTAMP:20260421T160634
CREATED:20260111T185929Z
LAST-MODIFIED:20260111T185929Z
UID:13154-1768489200-1768494600@kgkalastar.nadi.my
SUMMARY:NADI x Cybersecurity - Ancaman Siber Dalam Dunia Digital
DESCRIPTION:
URL:https://kgkalastar.nadi.my/event/nadi-x-cybersecurity-ancaman-siber-dalam-dunia-digital/
END:VEVENT
BEGIN:VEVENT
DTSTART;TZID=UTC:20260115T153000
DTEND;TZID=UTC:20260115T163000
DTSTAMP:20260421T160634
CREATED:20260101T232617Z
LAST-MODIFIED:20260101T232617Z
UID:13071-1768491000-1768494600@kgkalastar.nadi.my
SUMMARY:NADI x Pembelajaran Sepanjang Hayat - DILEA Tuisyen Rakyat : Open Tuition Sains (Ting 1-5)
DESCRIPTION:
URL:https://kgkalastar.nadi.my/event/nadi-x-pembelajaran-sepanjang-hayat-dilea-tuisyen-rakyat-open-tuition-sains-ting-1-5-3/
END:VEVENT
BEGIN:VEVENT
DTSTART;TZID=UTC:20260116T080000
DTEND;TZID=UTC:20260118T180000
DTSTAMP:20260421T160634
CREATED:20260115T180756Z
LAST-MODIFIED:20260115T181739Z
UID:13166-1768550400-1768759200@kgkalastar.nadi.my
SUMMARY:NADI x Pembelajaran Sepanjang Hayat - NADI E-Sukan Januari 2026 Modul 2 : Etika & Sikap Pemain E-Sukan
DESCRIPTION:
URL:https://kgkalastar.nadi.my/event/nadi-x-pembelajaran-sepanjang-hayat-nadi-e-sukan-januari-2026-modul-2-etika-sikap-pemain-e-sukan/
END:VEVENT
BEGIN:VEVENT
DTSTART;TZID=UTC:20260119T153000
DTEND;TZID=UTC:20260119T163000
DTSTAMP:20260421T160634
CREATED:20260101T232711Z
LAST-MODIFIED:20260101T232711Z
UID:13073-1768836600-1768840200@kgkalastar.nadi.my
SUMMARY:NADI x Pembelajaran Sepanjang Hayat - DILEA Tuisyen Rakyat : Open Tuition Matematik (Ting 1-5)
DESCRIPTION:
URL:https://kgkalastar.nadi.my/event/nadi-x-pembelajaran-sepanjang-hayat-dilea-tuisyen-rakyat-open-tuition-matematik-ting-1-5-4/
END:VEVENT
BEGIN:VEVENT
DTSTART;TZID=UTC:20260120T100000
DTEND;TZID=UTC:20260120T110000
DTSTAMP:20260421T160634
CREATED:20260115T181128Z
LAST-MODIFIED:20260115T181128Z
UID:13168-1768903200-1768906800@kgkalastar.nadi.my
SUMMARY:NADI x Pembelajaran Sepanjang Hayat - Webinar Pemasaran Digital eKelas Usahawan : Strategi Pemasaran Digital
DESCRIPTION:
URL:https://kgkalastar.nadi.my/event/nadi-x-pembelajaran-sepanjang-hayat-webinar-pemasaran-digital-ekelas-usahawan-strategi-pemasaran-digital/
END:VEVENT
BEGIN:VEVENT
DTSTART;TZID=UTC:20260120T153000
DTEND;TZID=UTC:20260120T163000
DTSTAMP:20260421T160634
CREATED:20260101T232744Z
LAST-MODIFIED:20260101T232744Z
UID:13075-1768923000-1768926600@kgkalastar.nadi.my
SUMMARY:NADI x Pembelajaran Sepanjang Hayat - DILEA Tuisyen Rakyat : Open Tuition Bahasa Inggeris (Ting 1-5)
DESCRIPTION:
URL:https://kgkalastar.nadi.my/event/nadi-x-pembelajaran-sepanjang-hayat-dilea-tuisyen-rakyat-open-tuition-bahasa-inggeris-ting-1-5-4/
END:VEVENT
BEGIN:VEVENT
DTSTART;TZID=UTC:20260122T100000
DTEND;TZID=UTC:20260122T110000
DTSTAMP:20260421T160634
CREATED:20260115T181230Z
LAST-MODIFIED:20260115T181230Z
UID:13170-1769076000-1769079600@kgkalastar.nadi.my
SUMMARY:NADI x Pembelajaran Sepanjang Hayat - Webinar Pemasaran Digital eKelas Usahawan : Asas Komunikasi Visual
DESCRIPTION:
URL:https://kgkalastar.nadi.my/event/nadi-x-pembelajaran-sepanjang-hayat-webinar-pemasaran-digital-ekelas-usahawan-asas-komunikasi-visual/
END:VEVENT
BEGIN:VEVENT
DTSTART;TZID=UTC:20260122T150000
DTEND;TZID=UTC:20260122T160000
DTSTAMP:20260421T160634
CREATED:20260111T192115Z
LAST-MODIFIED:20260111T192115Z
UID:13156-1769094000-1769097600@kgkalastar.nadi.my
SUMMARY:NADI x Cybersecurity - Siri Cyber Hygiene : Asas Keselamatan Siber
DESCRIPTION:
URL:https://kgkalastar.nadi.my/event/nadi-x-cybersecurity-siri-cyber-hygiene-asas-keselamatan-siber/
END:VEVENT
BEGIN:VEVENT
DTSTART;TZID=UTC:20260122T153000
DTEND;TZID=UTC:20260122T163000
DTSTAMP:20260421T160634
CREATED:20260101T232815Z
LAST-MODIFIED:20260101T232815Z
UID:13077-1769095800-1769099400@kgkalastar.nadi.my
SUMMARY:NADI x Pembelajaran Sepanjang Hayat - DILEA Tuisyen Rakyat : Open Tuition Bahasa Melayu (Ting 1-5)
DESCRIPTION:
URL:https://kgkalastar.nadi.my/event/nadi-x-pembelajaran-sepanjang-hayat-dilea-tuisyen-rakyat-open-tuition-bahasa-melayu-ting-1-5-4/
END:VEVENT
BEGIN:VEVENT
DTSTART;TZID=UTC:20260125T090000
DTEND;TZID=UTC:20260125T180000
DTSTAMP:20260421T160634
CREATED:20260101T234001Z
LAST-MODIFIED:20260101T234001Z
UID:13102-1769331600-1769364000@kgkalastar.nadi.my
SUMMARY:NADI x Pembelajaran Sepanjang Hayat - DILEA Tuisyen Rakyat : English Proficiency Tingkatan 4 & 5 Lesson 23
DESCRIPTION:
URL:https://kgkalastar.nadi.my/event/nadi-x-pembelajaran-sepanjang-hayat-dilea-tuisyen-rakyat-english-proficiency-tingkatan-4-5-lesson-23/
END:VEVENT
BEGIN:VEVENT
DTSTART;TZID=UTC:20260126T153000
DTEND;TZID=UTC:20260126T163000
DTSTAMP:20260421T160634
CREATED:20260101T232851Z
LAST-MODIFIED:20260101T232851Z
UID:13079-1769441400-1769445000@kgkalastar.nadi.my
SUMMARY:NADI x Pembelajaran Sepanjang Hayat - DILEA Tuisyen Rakyat : Open Tuition Sejarah (Ting 1-5)
DESCRIPTION:
URL:https://kgkalastar.nadi.my/event/nadi-x-pembelajaran-sepanjang-hayat-dilea-tuisyen-rakyat-open-tuition-sejarah-ting-1-5-4/
END:VEVENT
BEGIN:VEVENT
DTSTART;TZID=UTC:20260129T150000
DTEND;TZID=UTC:20260129T163000
DTSTAMP:20260421T160634
CREATED:20260122T184645Z
LAST-MODIFIED:20260122T184645Z
UID:13177-1769698800-1769704200@kgkalastar.nadi.my
SUMMARY:NADI x Cybersecurity - Cara Menangani Ancaman Serangan Siber
DESCRIPTION:
URL:https://kgkalastar.nadi.my/event/nadi-x-cybersecurity-cara-menangani-ancaman-serangan-siber/
END:VEVENT
BEGIN:VEVENT
DTSTART;TZID=UTC:20260129T153000
DTEND;TZID=UTC:20260129T163000
DTSTAMP:20260421T160634
CREATED:20260101T232937Z
LAST-MODIFIED:20260101T232937Z
UID:13082-1769700600-1769704200@kgkalastar.nadi.my
SUMMARY:NADI x Pembelajaran Sepanjang Hayat - DILEA Tuisyen Rakyat : Open Tuition Sains (Ting 1-5)
DESCRIPTION:
URL:https://kgkalastar.nadi.my/event/nadi-x-pembelajaran-sepanjang-hayat-dilea-tuisyen-rakyat-open-tuition-sains-ting-1-5-4/
END:VEVENT
END:VCALENDAR