BEGIN:VCALENDAR
VERSION:2.0
PRODID:-//NADI Kg Kala Star - ECPv6.15.13.1//NONSGML v1.0//EN
CALSCALE:GREGORIAN
METHOD:PUBLISH
X-WR-CALNAME:NADI Kg Kala Star
X-ORIGINAL-URL:https://kgkalastar.nadi.my
X-WR-CALDESC:Events for NADI Kg Kala Star
REFRESH-INTERVAL;VALUE=DURATION:PT1H
X-Robots-Tag:noindex
X-PUBLISHED-TTL:PT1H
BEGIN:VTIMEZONE
TZID:UTC
BEGIN:STANDARD
TZOFFSETFROM:+0000
TZOFFSETTO:+0000
TZNAME:UTC
DTSTART:20240101T000000
END:STANDARD
END:VTIMEZONE
BEGIN:VEVENT
DTSTART;TZID=UTC:20250604T100000
DTEND;TZID=UTC:20250604T110000
DTSTAMP:20260424T070757
CREATED:20250603T011004Z
LAST-MODIFIED:20250603T011004Z
UID:10958-1749031200-1749034800@kgkalastar.nadi.my
SUMMARY:Webinar Pemasaran Digital eKelas Usahawan - AI Untuk Mencipta Kandungan
DESCRIPTION:
URL:https://kgkalastar.nadi.my/event/webinar-pemasaran-digital-ekelas-usahawan-ai-untuk-mencipta-kandungan/
END:VEVENT
BEGIN:VEVENT
DTSTART;TZID=UTC:20250604T140000
DTEND;TZID=UTC:20250604T150000
DTSTAMP:20260424T070757
CREATED:20250603T011118Z
LAST-MODIFIED:20250603T011118Z
UID:10961-1749045600-1749049200@kgkalastar.nadi.my
SUMMARY:Webinar Pemasaran Digital eKelas Usahawan - Mengurus Pemasaran Digital
DESCRIPTION:
URL:https://kgkalastar.nadi.my/event/webinar-pemasaran-digital-ekelas-usahawan-mengurus-pemasaran-digital/
END:VEVENT
BEGIN:VEVENT
DTSTART;TZID=UTC:20250613T153000
DTEND;TZID=UTC:20250613T170000
DTSTAMP:20260424T070757
CREATED:20250604T182244Z
LAST-MODIFIED:20250604T182244Z
UID:10985-1749828600-1749834000@kgkalastar.nadi.my
SUMMARY:Webinar NADI x Cybersecurity - Lindungi Identiti Digital Anda (Secure Online Presence)
DESCRIPTION:
URL:https://kgkalastar.nadi.my/event/webinar-nadi-x-cybersecurity-lindungi-identiti-digital-anda-secure-online-presence/
END:VEVENT
BEGIN:VEVENT
DTSTART;TZID=UTC:20250614T120000
DTEND;TZID=UTC:20250614T140000
DTSTAMP:20260424T070757
CREATED:20250611T001317Z
LAST-MODIFIED:20250611T001317Z
UID:11016-1749902400-1749909600@kgkalastar.nadi.my
SUMMARY:NADI X Pembelajaran Sepanjang Hayat - Rasa Warisan Nyonya Asli Bersama Chef Florence Tan
DESCRIPTION:
URL:https://kgkalastar.nadi.my/event/nadi-x-pembelajaran-sepanjang-hayat-rasa-warisan-nyonya-asli-bersama-chef-florence-tan/
END:VEVENT
BEGIN:VEVENT
DTSTART;TZID=UTC:20250620T153000
DTEND;TZID=UTC:20250620T163000
DTSTAMP:20260424T070757
CREATED:20250619T193427Z
LAST-MODIFIED:20250619T194102Z
UID:11046-1750433400-1750437000@kgkalastar.nadi.my
SUMMARY:NADI x DILEA - Open Live Class Matematik
DESCRIPTION:
URL:https://kgkalastar.nadi.my/event/nadi-x-dilea-open-live-class-matematik/
END:VEVENT
BEGIN:VEVENT
DTSTART;TZID=UTC:20250620T153000
DTEND;TZID=UTC:20250620T170000
DTSTAMP:20260424T070757
CREATED:20250619T193731Z
LAST-MODIFIED:20250619T193731Z
UID:11050-1750433400-1750438800@kgkalastar.nadi.my
SUMMARY:Webinar NADI x Cybersecurity - Memahami Risiko Siber Dalam Permainan Online Anak
DESCRIPTION:
URL:https://kgkalastar.nadi.my/event/webinar-nadi-x-cybersecurity-memahami-risiko-siber-dalam-permainan-online-anak/
END:VEVENT
BEGIN:VEVENT
DTSTART;TZID=UTC:20250621T143000
DTEND;TZID=UTC:20250621T163000
DTSTAMP:20260424T070757
CREATED:20250609T195701Z
LAST-MODIFIED:20250609T195701Z
UID:10990-1750516200-1750523400@kgkalastar.nadi.my
SUMMARY:NADI x DILEA - Program Khas : Webinar Berkala Matematik Edisi 2
DESCRIPTION:
URL:https://kgkalastar.nadi.my/event/nadi-x-dilea-program-khas-webinar-berkala-matematik-edisi-2/
END:VEVENT
BEGIN:VEVENT
DTSTART;TZID=UTC:20250621T143000
DTEND;TZID=UTC:20250621T163000
DTSTAMP:20260424T070757
CREATED:20250619T193854Z
LAST-MODIFIED:20250619T194122Z
UID:11052-1750516200-1750523400@kgkalastar.nadi.my
SUMMARY:NADI x DILEA - Program Khas : Webinar Berkala Matematik Edisi 2
DESCRIPTION:
URL:https://kgkalastar.nadi.my/event/nadi-x-dilea-program-khas-webinar-berkala-matematik-edisi-2-2/
END:VEVENT
BEGIN:VEVENT
DTSTART;TZID=UTC:20250621T143000
DTEND;TZID=UTC:20250621T163000
DTSTAMP:20260424T070757
CREATED:20250619T194028Z
LAST-MODIFIED:20250619T194130Z
UID:11054-1750516200-1750523400@kgkalastar.nadi.my
SUMMARY:NADI x Tiny Techies : Program Mentor Sesi 6
DESCRIPTION:
URL:https://kgkalastar.nadi.my/event/nadi-x-tiny-techies-program-mentor-sesi-6/
END:VEVENT
BEGIN:VEVENT
DTSTART;TZID=UTC:20250626T093000
DTEND;TZID=UTC:20250626T103000
DTSTAMP:20260424T070757
CREATED:20250619T194336Z
LAST-MODIFIED:20250619T194336Z
UID:11060-1750930200-1750933800@kgkalastar.nadi.my
SUMMARY:Mahir X Pembelajaran Sepanjang Hayat - Forum Bersama Komuniti NADI Mahir
DESCRIPTION:
URL:https://kgkalastar.nadi.my/event/mahir-x-pembelajaran-sepanjang-hayat-forum-bersama-komuniti-nadi-mahir/
END:VEVENT
BEGIN:VEVENT
DTSTART;TZID=UTC:20250628T143000
DTEND;TZID=UTC:20250628T163000
DTSTAMP:20260424T070757
CREATED:20250619T193610Z
LAST-MODIFIED:20250619T194112Z
UID:11048-1751121000-1751128200@kgkalastar.nadi.my
SUMMARY:NADI x DILEA - Program Khas : Webinar Berkala Sejarah Edisi Kedua
DESCRIPTION:
URL:https://kgkalastar.nadi.my/event/nadi-x-dilea-program-khas-webinar-berkala-sejarah-edisi-kedua/
END:VEVENT
END:VCALENDAR