BEGIN:VCALENDAR
VERSION:2.0
PRODID:-//NADI Kg Kala Star - ECPv6.15.13.1//NONSGML v1.0//EN
CALSCALE:GREGORIAN
METHOD:PUBLISH
X-WR-CALNAME:NADI Kg Kala Star
X-ORIGINAL-URL:https://kgkalastar.nadi.my
X-WR-CALDESC:Events for NADI Kg Kala Star
REFRESH-INTERVAL;VALUE=DURATION:PT1H
X-Robots-Tag:noindex
X-PUBLISHED-TTL:PT1H
BEGIN:VTIMEZONE
TZID:UTC
BEGIN:STANDARD
TZOFFSETFROM:+0000
TZOFFSETTO:+0000
TZNAME:UTC
DTSTART:20240101T000000
END:STANDARD
END:VTIMEZONE
BEGIN:VEVENT
DTSTART;TZID=UTC:20250408T103000
DTEND;TZID=UTC:20250408T113000
DTSTAMP:20260426T023853
CREATED:20250407T173049Z
LAST-MODIFIED:20250407T173049Z
UID:10669-1744108200-1744111800@kgkalastar.nadi.my
SUMMARY:Webinar Kesejahteraan Kendiri - Sindrom Ovari Polisistik : Fakta & Cara Atasinya
DESCRIPTION:
URL:https://kgkalastar.nadi.my/event/webinar-kesejahteraan-kendiri-sindrom-ovari-polisistik-fakta-cara-atasinya/
END:VEVENT
BEGIN:VEVENT
DTSTART;TZID=UTC:20250412T140000
DTEND;TZID=UTC:20250412T160000
DTSTAMP:20260426T023853
CREATED:20250407T173243Z
LAST-MODIFIED:20250407T173243Z
UID:10671-1744466400-1744473600@kgkalastar.nadi.my
SUMMARY:NADI Mahir Foto - Tips Untuk Content Creator
DESCRIPTION:
URL:https://kgkalastar.nadi.my/event/nadi-mahir-foto-tips-untuk-content-creator/
END:VEVENT
BEGIN:VEVENT
DTSTART;TZID=UTC:20250412T143000
DTEND;TZID=UTC:20250412T163000
DTSTAMP:20260426T023853
CREATED:20250407T173727Z
LAST-MODIFIED:20250407T173825Z
UID:10675-1744468200-1744475400@kgkalastar.nadi.my
SUMMARY:NADI x DILEA - Program Khas : Webinar Berkala Sejarah Tingkatan 4 & 5
DESCRIPTION:
URL:https://kgkalastar.nadi.my/event/nadi-x-dilea-program-khas-webinar-berkala-sejarah-tingkatan-4-5/
END:VEVENT
BEGIN:VEVENT
DTSTART;TZID=UTC:20250425T153000
DTEND;TZID=UTC:20250425T170000
DTSTAMP:20260426T023853
CREATED:20250407T173440Z
LAST-MODIFIED:20250407T173440Z
UID:10673-1745595000-1745600400@kgkalastar.nadi.my
SUMMARY:Webinar - Cybersecurity For Women
DESCRIPTION:
URL:https://kgkalastar.nadi.my/event/webinar-cybersecurity-for-women/
END:VEVENT
BEGIN:VEVENT
DTSTART;TZID=UTC:20250426T143000
DTEND;TZID=UTC:20250426T163000
DTSTAMP:20260426T023853
CREATED:20250422T203814Z
LAST-MODIFIED:20250422T203814Z
UID:10707-1745677800-1745685000@kgkalastar.nadi.my
SUMMARY:Bengkel Tiny Techies - Program Mentor Sesi 3
DESCRIPTION:
URL:https://kgkalastar.nadi.my/event/bengkel-tiny-techies-program-mentor-sesi-3/
END:VEVENT
END:VCALENDAR