BEGIN:VCALENDAR
VERSION:2.0
PRODID:-//NADI Kg Kala Star - ECPv6.15.13.1//NONSGML v1.0//EN
CALSCALE:GREGORIAN
METHOD:PUBLISH
X-WR-CALNAME:NADI Kg Kala Star
X-ORIGINAL-URL:https://kgkalastar.nadi.my
X-WR-CALDESC:Events for NADI Kg Kala Star
REFRESH-INTERVAL;VALUE=DURATION:PT1H
X-Robots-Tag:noindex
X-PUBLISHED-TTL:PT1H
BEGIN:VTIMEZONE
TZID:Asia/Kuala_Lumpur
BEGIN:STANDARD
TZOFFSETFROM:+0800
TZOFFSETTO:+0800
TZNAME:+08
DTSTART:20250101T000000
END:STANDARD
END:VTIMEZONE
BEGIN:VEVENT
DTSTART;TZID=Asia/Kuala_Lumpur:20260420T140000
DTEND;TZID=Asia/Kuala_Lumpur:20260420T150000
DTSTAMP:20260420T200430
CREATED:20260410T014448Z
LAST-MODIFIED:20260410T014448Z
UID:13862-1776693600-1776697200@kgkalastar.nadi.my
SUMMARY:NADI x Pembelajaran Sepanjang Hayat - Webinar Pemasaran Digital eKelas Usahawan : Asas Komunikasi Visual
DESCRIPTION:
URL:https://kgkalastar.nadi.my/event/nadi-x-pembelajaran-sepanjang-hayat-webinar-pemasaran-digital-ekelas-usahawan-asas-komunikasi-visual-3/
END:VEVENT
BEGIN:VEVENT
DTSTART;TZID=Asia/Kuala_Lumpur:20260420T100000
DTEND;TZID=Asia/Kuala_Lumpur:20260420T110000
DTSTAMP:20260420T200430
CREATED:20260410T014348Z
LAST-MODIFIED:20260410T014348Z
UID:13860-1776679200-1776682800@kgkalastar.nadi.my
SUMMARY:NADI x Pembelajaran Sepanjang Hayat - Webinar Pemasaran Digital eKelas Usahawan : Strategi Pemasaran Digital
DESCRIPTION:
URL:https://kgkalastar.nadi.my/event/nadi-x-pembelajaran-sepanjang-hayat-webinar-pemasaran-digital-ekelas-usahawan-strategi-pemasaran-digital-3/
END:VEVENT
BEGIN:VEVENT
DTSTART;TZID=Asia/Kuala_Lumpur:20260418T153000
DTEND;TZID=Asia/Kuala_Lumpur:20260418T163000
DTSTAMP:20260420T200430
CREATED:20260401T090759Z
LAST-MODIFIED:20260401T090759Z
UID:13813-1776526200-1776529800@kgkalastar.nadi.my
SUMMARY:NADI x Pembelajaran Sepanjang Hayat - DILEA Tuisyen Rakyat : Guidance Tuition Matematik Tingkatan 5
DESCRIPTION:
URL:https://kgkalastar.nadi.my/event/nadi-x-pembelajaran-sepanjang-hayat-dilea-tuisyen-rakyat-guidance-tuition-matematik-tingkatan-5-5/
END:VEVENT
BEGIN:VEVENT
DTSTART;TZID=Asia/Kuala_Lumpur:20260418T143000
DTEND;TZID=Asia/Kuala_Lumpur:20260418T163000
DTSTAMP:20260420T200430
CREATED:20260414T015807Z
LAST-MODIFIED:20260414T015807Z
UID:13867-1776522600-1776529800@kgkalastar.nadi.my
SUMMARY:NADI x Pembelajaran Sepanjang Hayat - DILEA Tuisyen Rakyat : Program Khas Webinar Berkala Bahasa Melayu Edisi 6 - Morfologi Dan Sintaksis (Tatabahasa) Teknik Penulisan Karangan
DESCRIPTION:
URL:https://kgkalastar.nadi.my/event/nadi-x-pembelajaran-sepanjang-hayat-dilea-tuisyen-rakyat-program-khas-webinar-berkala-bahasa-melayu-edisi-6-morfologi-dan-sintaksis-tatabahasa-teknik-penulisan-karangan/
END:VEVENT
BEGIN:VEVENT
DTSTART;TZID=Asia/Kuala_Lumpur:20260418T140000
DTEND;TZID=Asia/Kuala_Lumpur:20260418T150000
DTSTAMP:20260420T200430
CREATED:20260401T090728Z
LAST-MODIFIED:20260401T090728Z
UID:13811-1776520800-1776524400@kgkalastar.nadi.my
SUMMARY:NADI x Pembelajaran Sepanjang Hayat - DILEA Tuisyen Rakyat : Guidance Tuition SejarahTingkatan 5
DESCRIPTION:
URL:https://kgkalastar.nadi.my/event/nadi-x-pembelajaran-sepanjang-hayat-dilea-tuisyen-rakyat-guidance-tuition-sejarahtingkatan-5/
END:VEVENT
BEGIN:VEVENT
DTSTART;TZID=Asia/Kuala_Lumpur:20260418T110000
DTEND;TZID=Asia/Kuala_Lumpur:20260418T120000
DTSTAMP:20260420T200430
CREATED:20260414T020213Z
LAST-MODIFIED:20260414T020213Z
UID:13873-1776510000-1776513600@kgkalastar.nadi.my
SUMMARY:NADI x Pembelajaran Sepanjang Hayat - Tiny Techies : Python In Animation Siri 1
DESCRIPTION:
URL:https://kgkalastar.nadi.my/event/nadi-x-pembelajaran-sepanjang-hayat-tiny-techies-python-in-animation-siri-1/
END:VEVENT
BEGIN:VEVENT
DTSTART;TZID=Asia/Kuala_Lumpur:20260418T093000
DTEND;TZID=Asia/Kuala_Lumpur:20260418T103000
DTSTAMP:20260420T200430
CREATED:20260414T020058Z
LAST-MODIFIED:20260414T020058Z
UID:13869-1776504600-1776508200@kgkalastar.nadi.my
SUMMARY:NADI x Pembelajaran Sepanjang Hayat - Tiny Techies : Robotic Innovation Siri 1
DESCRIPTION:
URL:https://kgkalastar.nadi.my/event/nadi-x-pembelajaran-sepanjang-hayat-tiny-techies-robotic-innovation-siri-1/
END:VEVENT
BEGIN:VEVENT
DTSTART;TZID=Asia/Kuala_Lumpur:20260417T160000
DTEND;TZID=Asia/Kuala_Lumpur:20260417T170000
DTSTAMP:20260420T200430
CREATED:20260401T090648Z
LAST-MODIFIED:20260401T090648Z
UID:13809-1776441600-1776445200@kgkalastar.nadi.my
SUMMARY:NADI x Pembelajaran Sepanjang Hayat - DILEA Tuisyen Rakyat : Guidance Tuition Bahasa Inggeris Tingkatan 5
DESCRIPTION:
URL:https://kgkalastar.nadi.my/event/nadi-x-pembelajaran-sepanjang-hayat-dilea-tuisyen-rakyat-guidance-tuition-bahasa-inggeris-tingkatan-5-5/
END:VEVENT
BEGIN:VEVENT
DTSTART;TZID=Asia/Kuala_Lumpur:20260417T150000
DTEND;TZID=Asia/Kuala_Lumpur:20260417T160000
DTSTAMP:20260420T200430
CREATED:20260401T090617Z
LAST-MODIFIED:20260401T090617Z
UID:13807-1776438000-1776441600@kgkalastar.nadi.my
SUMMARY:NADI x Pembelajaran Sepanjang Hayat - DILEA Tuisyen Rakyat : Guidance Tuition Bahasa MelayuTingkatan 5
DESCRIPTION:
URL:https://kgkalastar.nadi.my/event/nadi-x-pembelajaran-sepanjang-hayat-dilea-tuisyen-rakyat-guidance-tuition-bahasa-melayutingkatan-5/
END:VEVENT
BEGIN:VEVENT
DTSTART;TZID=Asia/Kuala_Lumpur:20260417T080000
DTEND;TZID=Asia/Kuala_Lumpur:20260417T180000
DTSTAMP:20260420T200430
CREATED:20260401T085003Z
LAST-MODIFIED:20260418T024510Z
UID:13787-1776412800-1776448800@kgkalastar.nadi.my
SUMMARY:NADI x Pembelajaran Sepanjang Hayat - NADI E-Sukan April 2026 Modul 12 : Teamwork & Peranan Dalam Pasukan E-Sukan
DESCRIPTION:
URL:https://kgkalastar.nadi.my/event/nadi-x-pembelajaran-sepanjang-hayat-nadi-e-sukan-april-2026-modul-12-teamwork-peranan-dalam-pasukan-e-sukan/
END:VEVENT
BEGIN:VEVENT
DTSTART;TZID=Asia/Kuala_Lumpur:20260416T153000
DTEND;TZID=Asia/Kuala_Lumpur:20260416T163000
DTSTAMP:20260420T200430
CREATED:20260401T090204Z
LAST-MODIFIED:20260401T090204Z
UID:13797-1776353400-1776357000@kgkalastar.nadi.my
SUMMARY:NADI x Pembelajaran Sepanjang Hayat - DILEA Tuisyen Rakyat : Open Tuition Sains (Ting 1-5)
DESCRIPTION:
URL:https://kgkalastar.nadi.my/event/nadi-x-pembelajaran-sepanjang-hayat-dilea-tuisyen-rakyat-open-tuition-sains-ting-1-5-8/
END:VEVENT
BEGIN:VEVENT
DTSTART;TZID=Asia/Kuala_Lumpur:20260413T153000
DTEND;TZID=Asia/Kuala_Lumpur:20260413T163000
DTSTAMP:20260420T200430
CREATED:20260401T090139Z
LAST-MODIFIED:20260401T090139Z
UID:13795-1776094200-1776097800@kgkalastar.nadi.my
SUMMARY:NADI x Pembelajaran Sepanjang Hayat - DILEA Tuisyen Rakyat : Open Tuition Sejarah (Ting 1-5)
DESCRIPTION:
URL:https://kgkalastar.nadi.my/event/nadi-x-pembelajaran-sepanjang-hayat-dilea-tuisyen-rakyat-open-tuition-sejarah-ting-1-5-8/
END:VEVENT
BEGIN:VEVENT
DTSTART;TZID=Asia/Kuala_Lumpur:20260411T143000
DTEND;TZID=Asia/Kuala_Lumpur:20260411T163000
DTSTAMP:20260420T200430
CREATED:20260407T033319Z
LAST-MODIFIED:20260407T033319Z
UID:13846-1775917800-1775925000@kgkalastar.nadi.my
SUMMARY:NADI x Pembelajaran Sepanjang Hayat - DILEA Tuisyen Rakyat : Program Khas Webinar Berkala Bahasa Melayu Edisi 5 -Teknik Penulisan Karangan
DESCRIPTION:
URL:https://kgkalastar.nadi.my/event/nadi-x-pembelajaran-sepanjang-hayat-dilea-tuisyen-rakyat-program-khas-webinar-berkala-bahasa-melayu-edisi-5-teknik-penulisan-karangan/
END:VEVENT
BEGIN:VEVENT
DTSTART;TZID=Asia/Kuala_Lumpur:20260410T080000
DTEND;TZID=Asia/Kuala_Lumpur:20260412T180000
DTSTAMP:20260420T200430
CREATED:20260401T084910Z
LAST-MODIFIED:20260401T084910Z
UID:13785-1775808000-1776016800@kgkalastar.nadi.my
SUMMARY:NADI x Pembelajaran Sepanjang Hayat - NADI E-Sukan April 2026 Modul 11 : Pengurusan Konflik Dalam Pasukan E-Sukan
DESCRIPTION:
URL:https://kgkalastar.nadi.my/event/nadi-x-pembelajaran-sepanjang-hayat-nadi-e-sukan-april-2026-modul-11-pengurusan-konflik-dalam-pasukan-e-sukan/
END:VEVENT
BEGIN:VEVENT
DTSTART;TZID=Asia/Kuala_Lumpur:20260409T153000
DTEND;TZID=Asia/Kuala_Lumpur:20260409T163000
DTSTAMP:20260420T200430
CREATED:20260401T090450Z
LAST-MODIFIED:20260401T090450Z
UID:13805-1775748600-1775752200@kgkalastar.nadi.my
SUMMARY:NADI x Pembelajaran Sepanjang Hayat - DILEA Tuisyen Rakyat : Guidance Tuition Bahasa Inggeris Tingkatan 4
DESCRIPTION:
URL:https://kgkalastar.nadi.my/event/nadi-x-pembelajaran-sepanjang-hayat-dilea-tuisyen-rakyat-guidance-tuition-bahasa-inggeris-tingkatan-4-5/
END:VEVENT
BEGIN:VEVENT
DTSTART;TZID=Asia/Kuala_Lumpur:20260409T153000
DTEND;TZID=Asia/Kuala_Lumpur:20260409T163000
DTSTAMP:20260420T200430
CREATED:20260401T090107Z
LAST-MODIFIED:20260401T090107Z
UID:13793-1775748600-1775752200@kgkalastar.nadi.my
SUMMARY:NADI x Pembelajaran Sepanjang Hayat - DILEA Tuisyen Rakyat : Open Tuition Bahasa Melayu (Ting 1-5)
DESCRIPTION:
URL:https://kgkalastar.nadi.my/event/nadi-x-pembelajaran-sepanjang-hayat-dilea-tuisyen-rakyat-open-tuition-bahasa-melayu-ting-1-5-7/
END:VEVENT
BEGIN:VEVENT
DTSTART;TZID=Asia/Kuala_Lumpur:20260409T150000
DTEND;TZID=Asia/Kuala_Lumpur:20260409T163000
DTSTAMP:20260420T200430
CREATED:20260401T084806Z
LAST-MODIFIED:20260401T084806Z
UID:13783-1775746800-1775752200@kgkalastar.nadi.my
SUMMARY:NADI x Pembelajaran Sepanjang Hayat - NADI Cybersecurity : Cara Menjaga Keselamatan CCTV dan WiFi Rumah dari Digodam
DESCRIPTION:
URL:https://kgkalastar.nadi.my/event/nadi-x-pembelajaran-sepanjang-hayat-nadi-cybersecurity-cara-menjaga-keselamatan-cctv-dan-wifi-rumah-dari-digodam/
END:VEVENT
BEGIN:VEVENT
DTSTART;TZID=Asia/Kuala_Lumpur:20260407T153000
DTEND;TZID=Asia/Kuala_Lumpur:20260407T163000
DTSTAMP:20260420T200430
CREATED:20260401T090429Z
LAST-MODIFIED:20260401T090429Z
UID:13803-1775575800-1775579400@kgkalastar.nadi.my
SUMMARY:NADI x Pembelajaran Sepanjang Hayat - DILEA Tuisyen Rakyat : Guidance Tuition Sejarah Tingkatan 4
DESCRIPTION:
URL:https://kgkalastar.nadi.my/event/nadi-x-pembelajaran-sepanjang-hayat-dilea-tuisyen-rakyat-guidance-tuition-sejarah-tingkatan-4-4/
END:VEVENT
BEGIN:VEVENT
DTSTART;TZID=Asia/Kuala_Lumpur:20260407T153000
DTEND;TZID=Asia/Kuala_Lumpur:20260407T163000
DTSTAMP:20260420T200430
CREATED:20260401T090032Z
LAST-MODIFIED:20260401T090032Z
UID:13791-1775575800-1775579400@kgkalastar.nadi.my
SUMMARY:NADI x Pembelajaran Sepanjang Hayat - DILEA Tuisyen Rakyat : Open Tuition Bahasa Inggeris (Ting 1-5)
DESCRIPTION:
URL:https://kgkalastar.nadi.my/event/nadi-x-pembelajaran-sepanjang-hayat-dilea-tuisyen-rakyat-open-tuition-bahasa-inggeris-ting-1-5-8/
END:VEVENT
BEGIN:VEVENT
DTSTART;TZID=Asia/Kuala_Lumpur:20260406T153000
DTEND;TZID=Asia/Kuala_Lumpur:20260406T163000
DTSTAMP:20260420T200430
CREATED:20260401T090402Z
LAST-MODIFIED:20260401T090402Z
UID:13801-1775489400-1775493000@kgkalastar.nadi.my
SUMMARY:NADI x Pembelajaran Sepanjang Hayat - DILEA Tuisyen Rakyat : Guidance Tuition Bahasa Melayu Tingkatan 4
DESCRIPTION:
URL:https://kgkalastar.nadi.my/event/nadi-x-pembelajaran-sepanjang-hayat-dilea-tuisyen-rakyat-guidance-tuition-bahasa-melayu-tingkatan-4-5/
END:VEVENT
BEGIN:VEVENT
DTSTART;TZID=Asia/Kuala_Lumpur:20260406T080000
DTEND;TZID=Asia/Kuala_Lumpur:20260412T180000
DTSTAMP:20260420T200430
CREATED:20260401T090921Z
LAST-MODIFIED:20260401T090921Z
UID:13815-1775462400-1776016800@kgkalastar.nadi.my
SUMMARY:NADI x Pembelajaran Sepanjang Hayat - DILEA Tuisyen Rakyat : English Proficiency Tingkatan 4 & 5 Lesson 28
DESCRIPTION:
URL:https://kgkalastar.nadi.my/event/nadi-x-pembelajaran-sepanjang-hayat-dilea-tuisyen-rakyat-english-proficiency-tingkatan-4-5-lesson-28/
END:VEVENT
BEGIN:VEVENT
DTSTART;TZID=Asia/Kuala_Lumpur:20260405T153000
DTEND;TZID=Asia/Kuala_Lumpur:20260405T163000
DTSTAMP:20260420T200430
CREATED:20260401T090335Z
LAST-MODIFIED:20260401T090335Z
UID:13799-1775403000-1775406600@kgkalastar.nadi.my
SUMMARY:NADI x Pembelajaran Sepanjang Hayat - DILEA Tuisyen Rakyat : Guidance Tuition Matematik Tingkatan 4
DESCRIPTION:
URL:https://kgkalastar.nadi.my/event/nadi-x-pembelajaran-sepanjang-hayat-dilea-tuisyen-rakyat-guidance-tuition-matematik-tingkatan-4-5/
END:VEVENT
BEGIN:VEVENT
DTSTART;TZID=Asia/Kuala_Lumpur:20260404T150000
DTEND;TZID=Asia/Kuala_Lumpur:20260404T160000
DTSTAMP:20260420T200430
CREATED:20260401T084408Z
LAST-MODIFIED:20260401T084408Z
UID:13778-1775314800-1775318400@kgkalastar.nadi.my
SUMMARY:Program Siri Webinar Kempen Internet Selamat 2026 Siri 15 - “Privasi Data : Data Anda\, Nyawa Anda - Jangan Biar Dicuri”
DESCRIPTION:
URL:https://kgkalastar.nadi.my/event/program-siri-webinar-kempen-internet-selamat-2026-siri-15-privasi-data-data-anda-nyawa-anda-jangan-biar-dicuri/
END:VEVENT
BEGIN:VEVENT
DTSTART;TZID=Asia/Kuala_Lumpur:20260403T153000
DTEND;TZID=Asia/Kuala_Lumpur:20260403T163000
DTSTAMP:20260420T200430
CREATED:20260401T085958Z
LAST-MODIFIED:20260401T085958Z
UID:13789-1775230200-1775233800@kgkalastar.nadi.my
SUMMARY:NADI x Pembelajaran Sepanjang Hayat - DILEA Tuisyen Rakyat : Open Tuition Matematik (Ting 1-5)
DESCRIPTION:
URL:https://kgkalastar.nadi.my/event/nadi-x-pembelajaran-sepanjang-hayat-dilea-tuisyen-rakyat-open-tuition-matematik-ting-1-5-8/
END:VEVENT
BEGIN:VEVENT
DTSTART;TZID=Asia/Kuala_Lumpur:20260403T080000
DTEND;TZID=Asia/Kuala_Lumpur:20260405T180000
DTSTAMP:20260420T200430
CREATED:20260401T084621Z
LAST-MODIFIED:20260401T084621Z
UID:13781-1775203200-1775412000@kgkalastar.nadi.my
SUMMARY:NADI x Pembelajaran Sepanjang Hayat - NADI E-Sukan April 2026 Modul 10 : Komunikasi Dalam Pasukan E-Sukan
DESCRIPTION:
URL:https://kgkalastar.nadi.my/event/nadi-x-pembelajaran-sepanjang-hayat-nadi-e-sukan-april-2026-modul-10-komunikasi-dalam-pasukan-e-sukan/
END:VEVENT
BEGIN:VEVENT
DTSTART;TZID=Asia/Kuala_Lumpur:20260331T140000
DTEND;TZID=Asia/Kuala_Lumpur:20260331T150000
DTSTAMP:20260420T200430
CREATED:20260327T013931Z
LAST-MODIFIED:20260327T014257Z
UID:13720-1774965600-1774969200@kgkalastar.nadi.my
SUMMARY:NADI x Pembelajaran Sepanjang Hayat - Webinar Pemasaran Digital eKelas Usahawan : Mengurus & Mengukur Keberkesanan Pemasaran Digital
DESCRIPTION:
URL:https://kgkalastar.nadi.my/event/nadi-x-pembelajaran-sepanjang-hayat-webinar-pemasaran-digital-ekelas-usahawan-menguru-mengukur-keberkesanan-pemasaran-digital/
END:VEVENT
BEGIN:VEVENT
DTSTART;TZID=Asia/Kuala_Lumpur:20260331T100000
DTEND;TZID=Asia/Kuala_Lumpur:20260331T110000
DTSTAMP:20260420T200430
CREATED:20260327T013834Z
LAST-MODIFIED:20260327T013834Z
UID:13718-1774951200-1774954800@kgkalastar.nadi.my
SUMMARY:NADI x Pembelajaran Sepanjang Hayat - Webinar Pemasaran Digital eKelas Usahawan : AI untuk Mencipta Kandungan
DESCRIPTION:
URL:https://kgkalastar.nadi.my/event/nadi-x-pembelajaran-sepanjang-hayat-webinar-pemasaran-digital-ekelas-usahawan-ai-untuk-mencipta-kandungan-2/
END:VEVENT
BEGIN:VEVENT
DTSTART;TZID=Asia/Kuala_Lumpur:20260330T140000
DTEND;TZID=Asia/Kuala_Lumpur:20260330T150000
DTSTAMP:20260420T200430
CREATED:20260327T013751Z
LAST-MODIFIED:20260327T013751Z
UID:13716-1774879200-1774882800@kgkalastar.nadi.my
SUMMARY:NADI x Pembelajaran Sepanjang Hayat - Webinar Pemasaran Digital eKelas Usahawan : Asas Komunikasi Visual
DESCRIPTION:
URL:https://kgkalastar.nadi.my/event/nadi-x-pembelajaran-sepanjang-hayat-webinar-pemasaran-digital-ekelas-usahawan-asas-komunikasi-visual-2/
END:VEVENT
BEGIN:VEVENT
DTSTART;TZID=Asia/Kuala_Lumpur:20260330T100000
DTEND;TZID=Asia/Kuala_Lumpur:20260330T110000
DTSTAMP:20260420T200430
CREATED:20260327T013726Z
LAST-MODIFIED:20260327T013726Z
UID:13714-1774864800-1774868400@kgkalastar.nadi.my
SUMMARY:NADI x Pembelajaran Sepanjang Hayat - Webinar Pemasaran Digital eKelas Usahawan : Strategi Pemasaran Digital
DESCRIPTION:
URL:https://kgkalastar.nadi.my/event/nadi-x-pembelajaran-sepanjang-hayat-webinar-pemasaran-digital-ekelas-usahawan-strategi-pemasaran-digital-2/
END:VEVENT
BEGIN:VEVENT
DTSTART;TZID=Asia/Kuala_Lumpur:20260328T090000
DTEND;TZID=Asia/Kuala_Lumpur:20260328T130000
DTSTAMP:20260420T200430
CREATED:20260327T014540Z
LAST-MODIFIED:20260327T014540Z
UID:13725-1774688400-1774702800@kgkalastar.nadi.my
SUMMARY:NADI x Pembelajaran Sepanjang Hayat – NADI E-Sukan – Webinar Mac 2026 : Scriptwriting 2
DESCRIPTION:
URL:https://kgkalastar.nadi.my/event/nadi-x-pembelajaran-sepanjang-hayat-nadi-e-sukan-webinar-mac-2026-scriptwriting-2/
END:VEVENT
END:VCALENDAR