BEGIN:VCALENDAR
VERSION:2.0
PRODID:-//NADI Kg Kala Star - ECPv6.15.13.1//NONSGML v1.0//EN
CALSCALE:GREGORIAN
METHOD:PUBLISH
X-WR-CALNAME:NADI Kg Kala Star
X-ORIGINAL-URL:https://kgkalastar.nadi.my
X-WR-CALDESC:Events for NADI Kg Kala Star
REFRESH-INTERVAL;VALUE=DURATION:PT1H
X-Robots-Tag:noindex
X-PUBLISHED-TTL:PT1H
BEGIN:VTIMEZONE
TZID:Asia/Kuala_Lumpur
BEGIN:STANDARD
TZOFFSETFROM:+0800
TZOFFSETTO:+0800
TZNAME:+08
DTSTART:20250101T000000
END:STANDARD
END:VTIMEZONE
BEGIN:VEVENT
DTSTART;TZID=Asia/Kuala_Lumpur:20260307T140000
DTEND;TZID=Asia/Kuala_Lumpur:20260307T150000
DTSTAMP:20260423T172514
CREATED:20260303T044531Z
LAST-MODIFIED:20260303T044531Z
UID:13627-1772892000-1772895600@kgkalastar.nadi.my
SUMMARY:NADI x Pembelajaran Sepanjang Hayat - Tiny Techies : Kelas Ulangkaji Siri 3 Microbit & Robotik (Sekolah Rendah)
DESCRIPTION:
URL:https://kgkalastar.nadi.my/event/nadi-x-pembelajaran-sepanjang-hayat-tiny-techies-kelas-ulangkaji-siri-3-microbit-robotik-sekolah-rendah/
END:VEVENT
BEGIN:VEVENT
DTSTART;TZID=Asia/Kuala_Lumpur:20260307T153000
DTEND;TZID=Asia/Kuala_Lumpur:20260307T163000
DTSTAMP:20260423T172514
CREATED:20260303T044703Z
LAST-MODIFIED:20260303T044703Z
UID:13629-1772897400-1772901000@kgkalastar.nadi.my
SUMMARY:NADI x Pembelajaran Sepanjang Hayat - Tiny Techies : Kelas Ulangkaji Siri 3 Python\, HTML & SQL (Sekolah Menengah)
DESCRIPTION:
URL:https://kgkalastar.nadi.my/event/nadi-x-pembelajaran-sepanjang-hayat-tiny-techies-kelas-ulangkaji-siri-3-python-html-sql-sekolah-menengah/
END:VEVENT
END:VCALENDAR