BEGIN:VCALENDAR
VERSION:2.0
PRODID:-//NADI Kg Kala Star - ECPv6.15.13.1//NONSGML v1.0//EN
CALSCALE:GREGORIAN
METHOD:PUBLISH
X-WR-CALNAME:NADI Kg Kala Star
X-ORIGINAL-URL:https://kgkalastar.nadi.my
X-WR-CALDESC:Events for NADI Kg Kala Star
REFRESH-INTERVAL;VALUE=DURATION:PT1H
X-Robots-Tag:noindex
X-PUBLISHED-TTL:PT1H
BEGIN:VTIMEZONE
TZID:UTC
BEGIN:STANDARD
TZOFFSETFROM:+0000
TZOFFSETTO:+0000
TZNAME:UTC
DTSTART:20250101T000000
END:STANDARD
END:VTIMEZONE
BEGIN:VEVENT
DTSTART;TZID=UTC:20260228T090000
DTEND;TZID=UTC:20260228T170000
DTSTAMP:20260421T142806
CREATED:20260205T181914Z
LAST-MODIFIED:20260205T181914Z
UID:13307-1772269200-1772298000@kgkalastar.nadi.my
SUMMARY:NADI x Pembelajaran Sepanjang Hayat - DILEA Tuisyen Rakyat : English Proficiency Tingkatan 4 & 5 Lesson 25
DESCRIPTION:
URL:https://kgkalastar.nadi.my/event/nadi-x-pembelajaran-sepanjang-hayat-dilea-tuisyen-rakyat-english-proficiency-tingkatan-4-5-lesson-25/
END:VEVENT
BEGIN:VEVENT
DTSTART;TZID=UTC:20260228T093000
DTEND;TZID=UTC:20260228T103000
DTSTAMP:20260421T142806
CREATED:20260225T202106Z
LAST-MODIFIED:20260225T202106Z
UID:13451-1772271000-1772274600@kgkalastar.nadi.my
SUMMARY:Ihya Ramadan : Jom Mengaji @ NADI Bersama Ustaz Azam Din
DESCRIPTION:
URL:https://kgkalastar.nadi.my/event/ihya-ramadan-jom-mengaji-nadi-bersama-ustaz-azam-din/
END:VEVENT
END:VCALENDAR