BEGIN:VCALENDAR
VERSION:2.0
PRODID:-//NADI Kg Kala Star - ECPv6.15.13.1//NONSGML v1.0//EN
CALSCALE:GREGORIAN
METHOD:PUBLISH
X-WR-CALNAME:NADI Kg Kala Star
X-ORIGINAL-URL:https://kgkalastar.nadi.my
X-WR-CALDESC:Events for NADI Kg Kala Star
REFRESH-INTERVAL;VALUE=DURATION:PT1H
X-Robots-Tag:noindex
X-PUBLISHED-TTL:PT1H
BEGIN:VTIMEZONE
TZID:UTC
BEGIN:STANDARD
TZOFFSETFROM:+0000
TZOFFSETTO:+0000
TZNAME:UTC
DTSTART:20250101T000000
END:STANDARD
END:VTIMEZONE
BEGIN:VEVENT
DTSTART;TZID=UTC:20260225T150000
DTEND;TZID=UTC:20260225T160000
DTSTAMP:20260425T102155
CREATED:20260212T230013Z
LAST-MODIFIED:20260212T230013Z
UID:13388-1772031600-1772035200@kgkalastar.nadi.my
SUMMARY:NADI x Pembelajaran Sepanjang Hayat - NADI x Cybersecurity - Sesi Cyber Hygiene : Bulan Kesedaran Phishing & Scam
DESCRIPTION:
URL:https://kgkalastar.nadi.my/event/nadi-x-pembelajaran-sepanjang-hayat-nadi-x-cybersecurity-sesi-cyber-hygiene-bulan-kesedaran-phishing-scam/
END:VEVENT
END:VCALENDAR