BEGIN:VCALENDAR
VERSION:2.0
PRODID:-//NADI Kg Kala Star - ECPv6.15.13.1//NONSGML v1.0//EN
CALSCALE:GREGORIAN
METHOD:PUBLISH
X-WR-CALNAME:NADI Kg Kala Star
X-ORIGINAL-URL:https://kgkalastar.nadi.my
X-WR-CALDESC:Events for NADI Kg Kala Star
REFRESH-INTERVAL;VALUE=DURATION:PT1H
X-Robots-Tag:noindex
X-PUBLISHED-TTL:PT1H
BEGIN:VTIMEZONE
TZID:UTC
BEGIN:STANDARD
TZOFFSETFROM:+0000
TZOFFSETTO:+0000
TZNAME:UTC
DTSTART:20250101T000000
END:STANDARD
END:VTIMEZONE
BEGIN:VEVENT
DTSTART;TZID=UTC:20260213T143000
DTEND;TZID=UTC:20260213T153000
DTSTAMP:20260421T012557
CREATED:20260205T180951Z
LAST-MODIFIED:20260205T180951Z
UID:13289-1770993000-1770996600@kgkalastar.nadi.my
SUMMARY:NADI x Pembelajaran Sepanjang Hayat - DILEA Tuisyen Rakyat : Guidance Tuition Bahasa Melayu Tingkatan 5
DESCRIPTION:
URL:https://kgkalastar.nadi.my/event/nadi-x-pembelajaran-sepanjang-hayat-dilea-tuisyen-rakyat-guidance-tuition-bahasa-melayu-tingkatan-5-3/
END:VEVENT
BEGIN:VEVENT
DTSTART;TZID=UTC:20260213T153000
DTEND;TZID=UTC:20260213T163000
DTSTAMP:20260421T012557
CREATED:20260205T181237Z
LAST-MODIFIED:20260205T181237Z
UID:13297-1770996600-1771000200@kgkalastar.nadi.my
SUMMARY:NADI x Pembelajaran Sepanjang Hayat - DILEA Tuisyen Rakyat : Guidance Tuition Matematik Tingkatan 4
DESCRIPTION:
URL:https://kgkalastar.nadi.my/event/nadi-x-pembelajaran-sepanjang-hayat-dilea-tuisyen-rakyat-guidance-tuition-matematik-tingkatan-4-3/
END:VEVENT
BEGIN:VEVENT
DTSTART;TZID=UTC:20260213T160000
DTEND;TZID=UTC:20260213T170000
DTSTAMP:20260421T012557
CREATED:20260205T181036Z
LAST-MODIFIED:20260205T181036Z
UID:13291-1770998400-1771002000@kgkalastar.nadi.my
SUMMARY:NADI x Pembelajaran Sepanjang Hayat - DILEA Tuisyen Rakyat : Guidance Tuition Bahasa Inggeris Tingkatan 5
DESCRIPTION:
URL:https://kgkalastar.nadi.my/event/nadi-x-pembelajaran-sepanjang-hayat-dilea-tuisyen-rakyat-guidance-tuition-bahasa-inggeris-tingkatan-5-3/
END:VEVENT
END:VCALENDAR