BEGIN:VCALENDAR
VERSION:2.0
PRODID:-//NADI Kg Kala Star - ECPv6.15.13.1//NONSGML v1.0//EN
CALSCALE:GREGORIAN
METHOD:PUBLISH
X-WR-CALNAME:NADI Kg Kala Star
X-ORIGINAL-URL:https://kgkalastar.nadi.my
X-WR-CALDESC:Events for NADI Kg Kala Star
REFRESH-INTERVAL;VALUE=DURATION:PT1H
X-Robots-Tag:noindex
X-PUBLISHED-TTL:PT1H
BEGIN:VTIMEZONE
TZID:UTC
BEGIN:STANDARD
TZOFFSETFROM:+0000
TZOFFSETTO:+0000
TZNAME:UTC
DTSTART:20250101T000000
END:STANDARD
END:VTIMEZONE
BEGIN:VEVENT
DTSTART;TZID=UTC:20260212T150000
DTEND;TZID=UTC:20260212T163000
DTSTAMP:20260421T124731
CREATED:20260205T175954Z
LAST-MODIFIED:20260205T175954Z
UID:13269-1770908400-1770913800@kgkalastar.nadi.my
SUMMARY:NADI x Pembelajaran Sepanjang Hayat - Webinar Cybersecurity : Cara Kenal Pasti File Berbentuk Virus
DESCRIPTION:
URL:https://kgkalastar.nadi.my/event/nadi-x-pembelajaran-sepanjang-hayat-webinar-cybersecurity-cara-kenal-pasti-file-berbentuk-virus/
END:VEVENT
BEGIN:VEVENT
DTSTART;TZID=UTC:20260212T153000
DTEND;TZID=UTC:20260212T163000
DTSTAMP:20260421T124731
CREATED:20260205T180427Z
LAST-MODIFIED:20260205T180427Z
UID:13277-1770910200-1770913800@kgkalastar.nadi.my
SUMMARY:NADI x Pembelajaran Sepanjang Hayat - DILEA Tuisyen Rakyat : Open Tuition Sains (Ting 1-5)
DESCRIPTION:
URL:https://kgkalastar.nadi.my/event/nadi-x-pembelajaran-sepanjang-hayat-dilea-tuisyen-rakyat-open-tuition-sains-ting-1-5-5/
END:VEVENT
BEGIN:VEVENT
DTSTART;TZID=UTC:20260212T153000
DTEND;TZID=UTC:20260212T163000
DTSTAMP:20260421T124731
CREATED:20260205T181638Z
LAST-MODIFIED:20260205T181638Z
UID:13303-1770910200-1770913800@kgkalastar.nadi.my
SUMMARY:NADI x Pembelajaran Sepanjang Hayat - DILEA Tuisyen Rakyat : Guidance Tuition Bahasa Inggeris Tingkatan 4
DESCRIPTION:
URL:https://kgkalastar.nadi.my/event/nadi-x-pembelajaran-sepanjang-hayat-dilea-tuisyen-rakyat-guidance-tuition-bahasa-inggeris-tingkatan-4-3/
END:VEVENT
END:VCALENDAR