BEGIN:VCALENDAR
VERSION:2.0
PRODID:-//NADI Kg Kala Star - ECPv6.15.13.1//NONSGML v1.0//EN
CALSCALE:GREGORIAN
METHOD:PUBLISH
X-WR-CALNAME:NADI Kg Kala Star
X-ORIGINAL-URL:https://kgkalastar.nadi.my
X-WR-CALDESC:Events for NADI Kg Kala Star
REFRESH-INTERVAL;VALUE=DURATION:PT1H
X-Robots-Tag:noindex
X-PUBLISHED-TTL:PT1H
BEGIN:VTIMEZONE
TZID:UTC
BEGIN:STANDARD
TZOFFSETFROM:+0000
TZOFFSETTO:+0000
TZNAME:UTC
DTSTART:20250101T000000
END:STANDARD
END:VTIMEZONE
BEGIN:VEVENT
DTSTART;TZID=UTC:20260203T100000
DTEND;TZID=UTC:20260203T110000
DTSTAMP:20260423T111831
CREATED:20260115T181355Z
LAST-MODIFIED:20260115T181355Z
UID:13172-1770112800-1770116400@kgkalastar.nadi.my
SUMMARY:NADI x Pembelajaran Sepanjang Hayat - Webinar Pemasaran Digital eKelas Usahawan : AI untuk Mencipta Kandungan
DESCRIPTION:
URL:https://kgkalastar.nadi.my/event/nadi-x-pembelajaran-sepanjang-hayat-webinar-pemasaran-digital-ekelas-usahawan-ai-untuk-mencipta-kandungan/
END:VEVENT
END:VCALENDAR