BEGIN:VCALENDAR
VERSION:2.0
PRODID:-//NADI Kg Kala Star - ECPv6.15.13.1//NONSGML v1.0//EN
CALSCALE:GREGORIAN
METHOD:PUBLISH
X-WR-CALNAME:NADI Kg Kala Star
X-ORIGINAL-URL:https://kgkalastar.nadi.my
X-WR-CALDESC:Events for NADI Kg Kala Star
REFRESH-INTERVAL;VALUE=DURATION:PT1H
X-Robots-Tag:noindex
X-PUBLISHED-TTL:PT1H
BEGIN:VTIMEZONE
TZID:UTC
BEGIN:STANDARD
TZOFFSETFROM:+0000
TZOFFSETTO:+0000
TZNAME:UTC
DTSTART:20240101T000000
END:STANDARD
END:VTIMEZONE
BEGIN:VEVENT
DTSTART;TZID=UTC:20251212T143000
DTEND;TZID=UTC:20251212T153000
DTSTAMP:20260425T031200
CREATED:20251128T014430Z
LAST-MODIFIED:20251128T014430Z
UID:12845-1765549800-1765553400@kgkalastar.nadi.my
SUMMARY:NADI x Pembelajaran Sepanjang Hayat - DILEA Tuisyen Rakyat : Guidance Tuition Bahasa Melayu Tingkatan 5
DESCRIPTION:
URL:https://kgkalastar.nadi.my/event/nadi-x-pembelajaran-sepanjang-hayat-dilea-tuisyen-rakyat-guidance-tuition-bahasa-melayu-tingkatan-5/
END:VEVENT
BEGIN:VEVENT
DTSTART;TZID=UTC:20251212T160000
DTEND;TZID=UTC:20251212T170000
DTSTAMP:20260425T031200
CREATED:20251128T014501Z
LAST-MODIFIED:20251128T014501Z
UID:12847-1765555200-1765558800@kgkalastar.nadi.my
SUMMARY:NADI x Pembelajaran Sepanjang Hayat - DILEA Tuisyen Rakyat : Guidance Tuition Bahasa Inggeris Tingkatan 5
DESCRIPTION:
URL:https://kgkalastar.nadi.my/event/nadi-x-pembelajaran-sepanjang-hayat-dilea-tuisyen-rakyat-guidance-tuition-bahasa-inggeris-tingkatan-5/
END:VEVENT
END:VCALENDAR