BEGIN:VCALENDAR
VERSION:2.0
PRODID:-//NADI Kg Kala Star - ECPv6.15.13.1//NONSGML v1.0//EN
CALSCALE:GREGORIAN
METHOD:PUBLISH
X-WR-CALNAME:NADI Kg Kala Star
X-ORIGINAL-URL:https://kgkalastar.nadi.my
X-WR-CALDESC:Events for NADI Kg Kala Star
REFRESH-INTERVAL;VALUE=DURATION:PT1H
X-Robots-Tag:noindex
X-PUBLISHED-TTL:PT1H
BEGIN:VTIMEZONE
TZID:UTC
BEGIN:STANDARD
TZOFFSETFROM:+0000
TZOFFSETTO:+0000
TZNAME:UTC
DTSTART:20240101T000000
END:STANDARD
END:VTIMEZONE
BEGIN:VEVENT
DTSTART;TZID=UTC:20251204T150000
DTEND;TZID=UTC:20251204T163000
DTSTAMP:20260425T115620
CREATED:20251130T173927Z
LAST-MODIFIED:20251130T174235Z
UID:12938-1764860400-1764865800@kgkalastar.nadi.my
SUMMARY:NADI x Pembelajaran Sepanjang Hayat - Webinar Cybersecurity : Ancaman Kamera Tersembunyi\, Apa Yang Perlu Anda Tahu (Slot 1)
DESCRIPTION:
URL:https://kgkalastar.nadi.my/event/nadi-x-pembelajaran-sepanjang-hayat-webinar-cybersecurity-ancaman-kamera-tersembunyi-apa-yang-perlu-anda-tahu/
END:VEVENT
BEGIN:VEVENT
DTSTART;TZID=UTC:20251204T153000
DTEND;TZID=UTC:20251204T163000
DTSTAMP:20260425T115620
CREATED:20251128T013859Z
LAST-MODIFIED:20251128T013859Z
UID:12829-1764862200-1764865800@kgkalastar.nadi.my
SUMMARY:NADI x Pembelajaran Sepanjang Hayat - DILEA Tuisyen Rakyat : Open Tuition Bahasa Melayu (Ting 1-5)
DESCRIPTION:
URL:https://kgkalastar.nadi.my/event/nadi-x-pembelajaran-sepanjang-hayat-dilea-tuisyen-rakyat-open-tuition-bahasa-melayu-ting-1-5/
END:VEVENT
BEGIN:VEVENT
DTSTART;TZID=UTC:20251204T153000
DTEND;TZID=UTC:20251204T163000
DTSTAMP:20260425T115620
CREATED:20251128T014836Z
LAST-MODIFIED:20251128T014836Z
UID:12859-1764862200-1764865800@kgkalastar.nadi.my
SUMMARY:NADI x Pembelajaran Sepanjang Hayat - DILEA Tuisyen Rakyat : Guidance Tuition Bahasa Inggeris Tingkatan 4
DESCRIPTION:
URL:https://kgkalastar.nadi.my/event/nadi-x-pembelajaran-sepanjang-hayat-dilea-tuisyen-rakyat-guidance-tuition-bahasa-inggeris-tingkatan-4/
END:VEVENT
END:VCALENDAR