BEGIN:VCALENDAR
VERSION:2.0
PRODID:-//NADI Kg Kala Star - ECPv6.15.13.1//NONSGML v1.0//EN
CALSCALE:GREGORIAN
METHOD:PUBLISH
X-WR-CALNAME:NADI Kg Kala Star
X-ORIGINAL-URL:https://kgkalastar.nadi.my
X-WR-CALDESC:Events for NADI Kg Kala Star
REFRESH-INTERVAL;VALUE=DURATION:PT1H
X-Robots-Tag:noindex
X-PUBLISHED-TTL:PT1H
BEGIN:VTIMEZONE
TZID:UTC
BEGIN:STANDARD
TZOFFSETFROM:+0000
TZOFFSETTO:+0000
TZNAME:UTC
DTSTART:20240101T000000
END:STANDARD
END:VTIMEZONE
BEGIN:VEVENT
DTSTART;TZID=UTC:20251120T150000
DTEND;TZID=UTC:20251120T163000
DTSTAMP:20260423T111836
CREATED:20251119T174826Z
LAST-MODIFIED:20251119T181931Z
UID:12767-1763650800-1763656200@kgkalastar.nadi.my
SUMMARY:NADI x Pembelajaran Sepanjang Hayat - Cybersecurity : Webinar Risiko Siber Dalam Dunia AI
DESCRIPTION:
URL:https://kgkalastar.nadi.my/event/nadi-x-cybersecurity-webinar-risiko-siber-dalam-dunia-ai/
END:VEVENT
BEGIN:VEVENT
DTSTART;TZID=UTC:20251120T153000
DTEND;TZID=UTC:20251120T163000
DTSTAMP:20260423T111836
CREATED:20251030T232746Z
LAST-MODIFIED:20251030T232746Z
UID:12600-1763652600-1763656200@kgkalastar.nadi.my
SUMMARY:NADI Nurture DILEA Digital Learning - Open Tuition Bahasa Melayu (Ting 1-5)
DESCRIPTION:
URL:https://kgkalastar.nadi.my/event/nadi-nurture-dilea-digital-learning-open-tuition-bahasa-melayu-ting-1-5-2/
END:VEVENT
END:VCALENDAR