BEGIN:VCALENDAR
VERSION:2.0
PRODID:-//NADI Kg Kala Star - ECPv6.15.13.1//NONSGML v1.0//EN
CALSCALE:GREGORIAN
METHOD:PUBLISH
X-WR-CALNAME:NADI Kg Kala Star
X-ORIGINAL-URL:https://kgkalastar.nadi.my
X-WR-CALDESC:Events for NADI Kg Kala Star
REFRESH-INTERVAL;VALUE=DURATION:PT1H
X-Robots-Tag:noindex
X-PUBLISHED-TTL:PT1H
BEGIN:VTIMEZONE
TZID:UTC
BEGIN:STANDARD
TZOFFSETFROM:+0000
TZOFFSETTO:+0000
TZNAME:UTC
DTSTART:20240101T000000
END:STANDARD
END:VTIMEZONE
BEGIN:VEVENT
DTSTART;TZID=UTC:20251108T100000
DTEND;TZID=UTC:20251108T110000
DTSTAMP:20260424T103529
CREATED:20251106T184452Z
LAST-MODIFIED:20251106T184452Z
UID:12695-1762596000-1762599600@kgkalastar.nadi.my
SUMMARY:NADI x Tiny Techies : Bengkel Mahir SUMO Robot Sesi 4 (Sekolah Rendah)
DESCRIPTION:
URL:https://kgkalastar.nadi.my/event/nadi-x-tiny-techies-bengkel-mahir-sumo-robot-sesi-4-sekolah-rendah/
END:VEVENT
BEGIN:VEVENT
DTSTART;TZID=UTC:20251108T113000
DTEND;TZID=UTC:20251108T123000
DTSTAMP:20260424T103529
CREATED:20251106T184544Z
LAST-MODIFIED:20251106T184544Z
UID:12697-1762601400-1762605000@kgkalastar.nadi.my
SUMMARY:NADI x Tiny Techies : Bengkel Mahir IoT Inovasi Sesi 4 (Sekolah Menengah)
DESCRIPTION:
URL:https://kgkalastar.nadi.my/event/nadi-x-tiny-techies-bengkel-mahir-iot-inovasi-sesi-4-sekolah-menengah/
END:VEVENT
BEGIN:VEVENT
DTSTART;TZID=UTC:20251108T143000
DTEND;TZID=UTC:20251108T163000
DTSTAMP:20260424T103529
CREATED:20251030T235137Z
LAST-MODIFIED:20251030T235137Z
UID:12623-1762612200-1762619400@kgkalastar.nadi.my
SUMMARY:NADI-Nurture DILEA Digital Learning Tuisyen Rakyat - Program Khas : Webinar Gerak Gempur SPM : Tips And Tricks Skor A SPM Sejarah
DESCRIPTION:
URL:https://kgkalastar.nadi.my/event/nadi-nurture-dilea-digital-learning-tuisyen-rakyat-program-khas-webinar-gerak-gempur-spm-tips-and-tricks-skor-a-spm-sejarah/
END:VEVENT
END:VCALENDAR