BEGIN:VCALENDAR
VERSION:2.0
PRODID:-//NADI Kg Kala Star - ECPv6.15.13.1//NONSGML v1.0//EN
CALSCALE:GREGORIAN
METHOD:PUBLISH
X-WR-CALNAME:NADI Kg Kala Star
X-ORIGINAL-URL:https://kgkalastar.nadi.my
X-WR-CALDESC:Events for NADI Kg Kala Star
REFRESH-INTERVAL;VALUE=DURATION:PT1H
X-Robots-Tag:noindex
X-PUBLISHED-TTL:PT1H
BEGIN:VTIMEZONE
TZID:UTC
BEGIN:STANDARD
TZOFFSETFROM:+0000
TZOFFSETTO:+0000
TZNAME:UTC
DTSTART:20240101T000000
END:STANDARD
END:VTIMEZONE
BEGIN:VEVENT
DTSTART;TZID=UTC:20251104T100000
DTEND;TZID=UTC:20251104T110000
DTSTAMP:20260425T115630
CREATED:20251031T182409Z
LAST-MODIFIED:20251031T182409Z
UID:12660-1762250400-1762254000@kgkalastar.nadi.my
SUMMARY:NADI x eKelas - Webinar Pemasaran Digital eKelas Usahawan : Strategi Pemasaran Digital
DESCRIPTION:
URL:https://kgkalastar.nadi.my/event/nadi-x-ekelas-webinar-pemasaran-digital-ekelas-usahawan-strategi-pemasaran-digital-3/
END:VEVENT
BEGIN:VEVENT
DTSTART;TZID=UTC:20251104T140000
DTEND;TZID=UTC:20251104T150000
DTSTAMP:20260425T115630
CREATED:20251031T182503Z
LAST-MODIFIED:20251031T182503Z
UID:12662-1762264800-1762268400@kgkalastar.nadi.my
SUMMARY:NADI x eKelas - Webinar Pemasaran Digital eKelas Usahawan : Asas Komunikasi Visual
DESCRIPTION:
URL:https://kgkalastar.nadi.my/event/nadi-x-ekelas-webinar-pemasaran-digital-ekelas-usahawan-asas-komunikasi-visual-3/
END:VEVENT
BEGIN:VEVENT
DTSTART;TZID=UTC:20251104T153000
DTEND;TZID=UTC:20251104T163000
DTSTAMP:20260425T115630
CREATED:20251030T232412Z
LAST-MODIFIED:20251030T232412Z
UID:12588-1762270200-1762273800@kgkalastar.nadi.my
SUMMARY:NADI Nurture DILEA Digital Learning - Open Tuition Bahasa Inggeris (Ting 1-5)
DESCRIPTION:
URL:https://kgkalastar.nadi.my/event/nadi-nurture-dilea-digital-learning-open-tuition-bahasa-inggeris-ting-1-5/
END:VEVENT
END:VCALENDAR