BEGIN:VCALENDAR
VERSION:2.0
PRODID:-//NADI Kg Kala Star - ECPv6.15.13.1//NONSGML v1.0//EN
CALSCALE:GREGORIAN
METHOD:PUBLISH
X-WR-CALNAME:NADI Kg Kala Star
X-ORIGINAL-URL:https://kgkalastar.nadi.my
X-WR-CALDESC:Events for NADI Kg Kala Star
REFRESH-INTERVAL;VALUE=DURATION:PT1H
X-Robots-Tag:noindex
X-PUBLISHED-TTL:PT1H
BEGIN:VTIMEZONE
TZID:UTC
BEGIN:STANDARD
TZOFFSETFROM:+0000
TZOFFSETTO:+0000
TZNAME:UTC
DTSTART:20240101T000000
END:STANDARD
END:VTIMEZONE
BEGIN:VEVENT
DTSTART;TZID=UTC:20251018T020000
DTEND;TZID=UTC:20251018T150000
DTSTAMP:20260423T063835
CREATED:20251001T000521Z
LAST-MODIFIED:20251001T000521Z
UID:12276-1760752800-1760799600@kgkalastar.nadi.my
SUMMARY:NADI-Nurture DILEA Digital Learning Tuisyen Rakyat - Guidance Tuition : Sejarah Tingkatan 5
DESCRIPTION:
URL:https://kgkalastar.nadi.my/event/nadi-nurture-dilea-digital-learning-tuisyen-rakyat-guidance-tuition-sejarah-tingkatan-5/
END:VEVENT
BEGIN:VEVENT
DTSTART;TZID=UTC:20251018T150000
DTEND;TZID=UTC:20251018T160000
DTSTAMP:20260423T063835
CREATED:20251016T000917Z
LAST-MODIFIED:20251016T000917Z
UID:12515-1760799600-1760803200@kgkalastar.nadi.my
SUMMARY:Program Siri Webinar Kempen Internet Selamat 2025 Siri 10 : Deepfake & AI - Boleh Percaya Ke Semua Video?
DESCRIPTION:
URL:https://kgkalastar.nadi.my/event/program-siri-webinar-kempen-internet-selamat-2025-siri-10-deepfake-ai-boleh-percaya-ke-semua-video/
END:VEVENT
BEGIN:VEVENT
DTSTART;TZID=UTC:20251018T153000
DTEND;TZID=UTC:20251018T163000
DTSTAMP:20260423T063835
CREATED:20251001T000554Z
LAST-MODIFIED:20251001T000554Z
UID:12278-1760801400-1760805000@kgkalastar.nadi.my
SUMMARY:NADI-Nurture DILEA Digital Learning Tuisyen Rakyat - Guidance Tuition : Matematik Tingkatan 5
DESCRIPTION:
URL:https://kgkalastar.nadi.my/event/nadi-nurture-dilea-digital-learning-tuisyen-rakyat-guidance-tuition-matematik-tingkatan-5/
END:VEVENT
END:VCALENDAR