BEGIN:VCALENDAR
VERSION:2.0
PRODID:-//NADI Kg Kala Star - ECPv6.15.13.1//NONSGML v1.0//EN
CALSCALE:GREGORIAN
METHOD:PUBLISH
X-WR-CALNAME:NADI Kg Kala Star
X-ORIGINAL-URL:https://kgkalastar.nadi.my
X-WR-CALDESC:Events for NADI Kg Kala Star
REFRESH-INTERVAL;VALUE=DURATION:PT1H
X-Robots-Tag:noindex
X-PUBLISHED-TTL:PT1H
BEGIN:VTIMEZONE
TZID:UTC
BEGIN:STANDARD
TZOFFSETFROM:+0000
TZOFFSETTO:+0000
TZNAME:UTC
DTSTART:20240101T000000
END:STANDARD
END:VTIMEZONE
BEGIN:VEVENT
DTSTART;TZID=UTC:20251004T143000
DTEND;TZID=UTC:20251004T163000
DTSTAMP:20260423T152323
CREATED:20250930T234900Z
LAST-MODIFIED:20250930T234900Z
UID:12242-1759588200-1759595400@kgkalastar.nadi.my
SUMMARY:NADI-Nurture DILEA Digital Learning Tuisyen Rakyat - Program Khas : Webinar Berkala Bahasa Inggeris Edisi 5 : Master The Reading Challenge
DESCRIPTION:
URL:https://kgkalastar.nadi.my/event/nadi-nurture-dilea-digital-learning-tuisyen-rakyat-program-khas-webinar-berkala-bahasa-inggeris-edisi-5-master-the-reading-challenge/
END:VEVENT
END:VCALENDAR