BEGIN:VCALENDAR
VERSION:2.0
PRODID:-//NADI Kg Kala Star - ECPv6.15.13.1//NONSGML v1.0//EN
CALSCALE:GREGORIAN
METHOD:PUBLISH
X-WR-CALNAME:NADI Kg Kala Star
X-ORIGINAL-URL:https://kgkalastar.nadi.my
X-WR-CALDESC:Events for NADI Kg Kala Star
REFRESH-INTERVAL;VALUE=DURATION:PT1H
X-Robots-Tag:noindex
X-PUBLISHED-TTL:PT1H
BEGIN:VTIMEZONE
TZID:UTC
BEGIN:STANDARD
TZOFFSETFROM:+0000
TZOFFSETTO:+0000
TZNAME:UTC
DTSTART:20240101T000000
END:STANDARD
END:VTIMEZONE
BEGIN:VEVENT
DTSTART;TZID=UTC:20250822T090000
DTEND;TZID=UTC:20250822T100000
DTSTAMP:20260425T062630
CREATED:20250820T014348Z
LAST-MODIFIED:20250820T014348Z
UID:11661-1755853200-1755856800@kgkalastar.nadi.my
SUMMARY:NADI Mahir Foto - Content Power Dengan Telefon
DESCRIPTION:
URL:https://kgkalastar.nadi.my/event/nadi-mahir-foto-content-power-dengan-telefon/
END:VEVENT
END:VCALENDAR