BEGIN:VCALENDAR
VERSION:2.0
PRODID:-//NADI Kg Kala Star - ECPv6.15.13.1//NONSGML v1.0//EN
CALSCALE:GREGORIAN
METHOD:PUBLISH
X-WR-CALNAME:NADI Kg Kala Star
X-ORIGINAL-URL:https://kgkalastar.nadi.my
X-WR-CALDESC:Events for NADI Kg Kala Star
REFRESH-INTERVAL;VALUE=DURATION:PT1H
X-Robots-Tag:noindex
X-PUBLISHED-TTL:PT1H
BEGIN:VTIMEZONE
TZID:UTC
BEGIN:STANDARD
TZOFFSETFROM:+0000
TZOFFSETTO:+0000
TZNAME:UTC
DTSTART:20240101T000000
END:STANDARD
END:VTIMEZONE
BEGIN:VEVENT
DTSTART;TZID=UTC:20250816T143000
DTEND;TZID=UTC:20250816T163000
DTSTAMP:20260425T003447
CREATED:20250811T193727Z
LAST-MODIFIED:20250811T193727Z
UID:11608-1755354600-1755361800@kgkalastar.nadi.my
SUMMARY:NADI-Nurture DILEA Digital Learning - Program Khas : Webinar Berkala Bahasa Inggeris Edisi Ke-4
DESCRIPTION:
URL:https://kgkalastar.nadi.my/event/nadi-nurture-dilea-digital-learning-program-khas-webinar-berkala-bahasa-inggeris-edisi-ke-4/
END:VEVENT
BEGIN:VEVENT
DTSTART;TZID=UTC:20250816T150000
DTEND;TZID=UTC:20250816T160000
DTSTAMP:20260425T003447
CREATED:20250813T175204Z
LAST-MODIFIED:20250813T175204Z
UID:11633-1755356400-1755360000@kgkalastar.nadi.my
SUMMARY:Program Siri Webinar Kempen Internet Selamat 2025 Siri 8 - Berani Bertindak : Bersama Menangani Buli Siber
DESCRIPTION:
URL:https://kgkalastar.nadi.my/event/program-siri-webinar-kempen-internet-selamat-2025-siri-8-berani-bertindak-bersama-menangani-buli-siber/
END:VEVENT
END:VCALENDAR