BEGIN:VCALENDAR
VERSION:2.0
PRODID:-//NADI Kg Kala Star - ECPv6.15.13.1//NONSGML v1.0//EN
CALSCALE:GREGORIAN
METHOD:PUBLISH
X-WR-CALNAME:NADI Kg Kala Star
X-ORIGINAL-URL:https://kgkalastar.nadi.my
X-WR-CALDESC:Events for NADI Kg Kala Star
REFRESH-INTERVAL;VALUE=DURATION:PT1H
X-Robots-Tag:noindex
X-PUBLISHED-TTL:PT1H
BEGIN:VTIMEZONE
TZID:UTC
BEGIN:STANDARD
TZOFFSETFROM:+0000
TZOFFSETTO:+0000
TZNAME:UTC
DTSTART:20240101T000000
END:STANDARD
END:VTIMEZONE
BEGIN:VEVENT
DTSTART;TZID=UTC:20250814T150000
DTEND;TZID=UTC:20250814T163000
DTSTAMP:20260424T103445
CREATED:20250806T181156Z
LAST-MODIFIED:20250806T181156Z
UID:11552-1755183600-1755189000@kgkalastar.nadi.my
SUMMARY:NADI x Cybersecurity - Webinar Selamatkah Telefon Anda Daripada Ancaman?
DESCRIPTION:
URL:https://kgkalastar.nadi.my/event/nadi-x-cybersecurity-webinar-selamatkah-telefon-anda-daripada-ancaman/
END:VEVENT
BEGIN:VEVENT
DTSTART;TZID=UTC:20250814T153000
DTEND;TZID=UTC:20250814T163000
DTSTAMP:20260424T103445
CREATED:20250806T181522Z
LAST-MODIFIED:20250806T181522Z
UID:11558-1755185400-1755189000@kgkalastar.nadi.my
SUMMARY:NADI-Nurture DILEA Digital Learning - Open Tuition Sains
DESCRIPTION:
URL:https://kgkalastar.nadi.my/event/nadi-nurture-dilea-digital-learning-open-tuition-sains/
END:VEVENT
END:VCALENDAR