BEGIN:VCALENDAR
VERSION:2.0
PRODID:-//NADI Kg Kala Star - ECPv6.15.13.1//NONSGML v1.0//EN
CALSCALE:GREGORIAN
METHOD:PUBLISH
X-WR-CALNAME:NADI Kg Kala Star
X-ORIGINAL-URL:https://kgkalastar.nadi.my
X-WR-CALDESC:Events for NADI Kg Kala Star
REFRESH-INTERVAL;VALUE=DURATION:PT1H
X-Robots-Tag:noindex
X-PUBLISHED-TTL:PT1H
BEGIN:VTIMEZONE
TZID:UTC
BEGIN:STANDARD
TZOFFSETFROM:+0000
TZOFFSETTO:+0000
TZNAME:UTC
DTSTART:20240101T000000
END:STANDARD
END:VTIMEZONE
BEGIN:VEVENT
DTSTART;TZID=UTC:20250809T100000
DTEND;TZID=UTC:20250809T110000
DTSTAMP:20260424T162401
CREATED:20250728T174807Z
LAST-MODIFIED:20250728T174807Z
UID:11467-1754733600-1754737200@kgkalastar.nadi.my
SUMMARY:NADI x Tiny Techies : Bengkel Unboxing Kit Tiny Techies Robotik (Sekolah Rendah)
DESCRIPTION:
URL:https://kgkalastar.nadi.my/event/nadi-x-tiny-techies-bengkel-unboxing-kit-tiny-techies-robotik-sekolah-rendah-2/
END:VEVENT
BEGIN:VEVENT
DTSTART;TZID=UTC:20250809T113000
DTEND;TZID=UTC:20250809T123000
DTSTAMP:20260424T162401
CREATED:20250728T174907Z
LAST-MODIFIED:20250728T174907Z
UID:11469-1754739000-1754742600@kgkalastar.nadi.my
SUMMARY:NADI x Tiny Techies : Bengkel Unboxing Kit Tiny Techies IoT Inovasi (Sekolah Menengah)
DESCRIPTION:
URL:https://kgkalastar.nadi.my/event/nadi-x-tiny-techies-bengkel-unboxing-kit-tiny-techies-iot-inovasi-sekolah-menengah/
END:VEVENT
END:VCALENDAR