BEGIN:VCALENDAR
VERSION:2.0
PRODID:-//NADI Kg Kala Star - ECPv6.15.13.1//NONSGML v1.0//EN
CALSCALE:GREGORIAN
METHOD:PUBLISH
X-WR-CALNAME:NADI Kg Kala Star
X-ORIGINAL-URL:https://kgkalastar.nadi.my
X-WR-CALDESC:Events for NADI Kg Kala Star
REFRESH-INTERVAL;VALUE=DURATION:PT1H
X-Robots-Tag:noindex
X-PUBLISHED-TTL:PT1H
BEGIN:VTIMEZONE
TZID:UTC
BEGIN:STANDARD
TZOFFSETFROM:+0000
TZOFFSETTO:+0000
TZNAME:UTC
DTSTART:20240101T000000
END:STANDARD
END:VTIMEZONE
BEGIN:VEVENT
DTSTART;TZID=UTC:20250724T150000
DTEND;TZID=UTC:20250724T163000
DTSTAMP:20260424T022035
CREATED:20250716T174750Z
LAST-MODIFIED:20250716T174750Z
UID:11298-1753369200-1753374600@kgkalastar.nadi.my
SUMMARY:NADI x Cybersecurity - Webinar Keselamatan Akaun Media Sosial : Bagaimana 'Phishing' Boleh Ambil Alih Akaun Anda?
DESCRIPTION:
URL:https://kgkalastar.nadi.my/event/nadi-x-cybersecurity-webinar-keselamatan-akaun-media-sosial-bagaimana-phishing-boleh-ambil-alih-akaun-anda/
END:VEVENT
END:VCALENDAR