BEGIN:VCALENDAR
VERSION:2.0
PRODID:-//NADI Kg Kala Star - ECPv6.15.13.1//NONSGML v1.0//EN
CALSCALE:GREGORIAN
METHOD:PUBLISH
X-WR-CALNAME:NADI Kg Kala Star
X-ORIGINAL-URL:https://kgkalastar.nadi.my
X-WR-CALDESC:Events for NADI Kg Kala Star
REFRESH-INTERVAL;VALUE=DURATION:PT1H
X-Robots-Tag:noindex
X-PUBLISHED-TTL:PT1H
BEGIN:VTIMEZONE
TZID:UTC
BEGIN:STANDARD
TZOFFSETFROM:+0000
TZOFFSETTO:+0000
TZNAME:UTC
DTSTART:20240101T000000
END:STANDARD
END:VTIMEZONE
BEGIN:VEVENT
DTSTART;TZID=UTC:20250717T153000
DTEND;TZID=UTC:20250717T163000
DTSTAMP:20260424T060152
CREATED:20250715T184242Z
LAST-MODIFIED:20250715T184357Z
UID:11295-1752766200-1752769800@kgkalastar.nadi.my
SUMMARY:NADI-Nurture DILEA Digital Learning - Open Live Class Sejarah
DESCRIPTION:
URL:https://kgkalastar.nadi.my/event/nadi-x-dilea-open-live-class-sejarah/
END:VEVENT
END:VCALENDAR