BEGIN:VCALENDAR
VERSION:2.0
PRODID:-//NADI Kg Kala Star - ECPv6.15.13.1//NONSGML v1.0//EN
CALSCALE:GREGORIAN
METHOD:PUBLISH
X-WR-CALNAME:NADI Kg Kala Star
X-ORIGINAL-URL:https://kgkalastar.nadi.my
X-WR-CALDESC:Events for NADI Kg Kala Star
REFRESH-INTERVAL;VALUE=DURATION:PT1H
X-Robots-Tag:noindex
X-PUBLISHED-TTL:PT1H
BEGIN:VTIMEZONE
TZID:UTC
BEGIN:STANDARD
TZOFFSETFROM:+0000
TZOFFSETTO:+0000
TZNAME:UTC
DTSTART:20240101T000000
END:STANDARD
END:VTIMEZONE
BEGIN:VEVENT
DTSTART;TZID=UTC:20250604T100000
DTEND;TZID=UTC:20250604T110000
DTSTAMP:20260425T071650
CREATED:20250603T011004Z
LAST-MODIFIED:20250603T011004Z
UID:10958-1749031200-1749034800@kgkalastar.nadi.my
SUMMARY:Webinar Pemasaran Digital eKelas Usahawan - AI Untuk Mencipta Kandungan
DESCRIPTION:
URL:https://kgkalastar.nadi.my/event/webinar-pemasaran-digital-ekelas-usahawan-ai-untuk-mencipta-kandungan/
END:VEVENT
BEGIN:VEVENT
DTSTART;TZID=UTC:20250604T140000
DTEND;TZID=UTC:20250604T150000
DTSTAMP:20260425T071650
CREATED:20250603T011118Z
LAST-MODIFIED:20250603T011118Z
UID:10961-1749045600-1749049200@kgkalastar.nadi.my
SUMMARY:Webinar Pemasaran Digital eKelas Usahawan - Mengurus Pemasaran Digital
DESCRIPTION:
URL:https://kgkalastar.nadi.my/event/webinar-pemasaran-digital-ekelas-usahawan-mengurus-pemasaran-digital/
END:VEVENT
END:VCALENDAR