BEGIN:VCALENDAR
VERSION:2.0
PRODID:-//NADI Kg Kala Star - ECPv6.15.13.1//NONSGML v1.0//EN
CALSCALE:GREGORIAN
METHOD:PUBLISH
X-WR-CALNAME:NADI Kg Kala Star
X-ORIGINAL-URL:https://kgkalastar.nadi.my
X-WR-CALDESC:Events for NADI Kg Kala Star
REFRESH-INTERVAL;VALUE=DURATION:PT1H
X-Robots-Tag:noindex
X-PUBLISHED-TTL:PT1H
BEGIN:VTIMEZONE
TZID:UTC
BEGIN:STANDARD
TZOFFSETFROM:+0000
TZOFFSETTO:+0000
TZNAME:UTC
DTSTART:20240101T000000
END:STANDARD
END:VTIMEZONE
BEGIN:VEVENT
DTSTART;TZID=UTC:20250503T143000
DTEND;TZID=UTC:20250503T163000
DTSTAMP:20260424T124043
CREATED:20250428T221143Z
LAST-MODIFIED:20250428T221143Z
UID:10732-1746282600-1746289800@kgkalastar.nadi.my
SUMMARY:NADI x DILEA - Program Khas Webinar Motivasi Pelajar
DESCRIPTION:
URL:https://kgkalastar.nadi.my/event/nadi-x-dilea-program-khas-webinar-motivasi-pelajar/
END:VEVENT
END:VCALENDAR